BEGIN:VCALENDAR
VERSION:2.0
PRODID:-//wp-events-plugin.com//6.6.4.4//EN
TZID:America/Kentucky/Louisville
X-WR-TIMEZONE:America/Kentucky/Louisville
BEGIN:VEVENT
UID:338@kyhumane.mediauradev.com
DTSTART;TZID=America/Kentucky/Louisville:20231216T140000
DTEND;TZID=America/Kentucky/Louisville:20231216T180000
DTSTAMP:20231204T182330Z
URL:https://kyhumane.mediauradev.com/events/12-bars-of-charity/
SUMMARY:12 Bars of Charity
DESCRIPTION:\nGather your friends and make a difference in your community! 
 The 12 Bars of Charity bar crawl is a fun event with 8 local charities com
 peting against each other to raise the most funds for their organization. 
 Join KHS at Fourth Street Live on Saturday\, December 16 and have a tail-w
 aggin' good time with fellow animal-lovers while supporting our sweet shel
 ter animals!\n\n\n\n\n\n\n\nEach charity is assigned a team color\, and fo
 r every sweatshirt sold\, $15 is donated to their team! Your sweatshirt is
  your ticket into the event\, and gets you access to exclusive drink speci
 als and no cover at all participating bars. We can't wait to see you for t
 his holly jolly day of fun!\n\n\n\nClick here to sign up.\n
ATTACH;FMTTYPE=image/jpeg:https://kyhumane.mediauradev.com/wp-content/uplo
 ads/2023/11/Join-banner.png
LOCATION:Fourth Street Live\, 411 S. 4th St. \, Louisville\, KY\, 40202\, U
 nited States
X-APPLE-STRUCTURED-LOCATION;VALUE=URI;X-ADDRESS=411 S. 4th St. \, Louisvill
 e\, KY\, 40202\, United States;X-APPLE-RADIUS=100;X-TITLE=Fourth Street Li
 ve:geo:0,0
END:VEVENT
BEGIN:VTIMEZONE
TZID:America/Kentucky/Louisville
X-LIC-LOCATION:America/Kentucky/Louisville
BEGIN:STANDARD
DTSTART:20231105T010000
TZOFFSETFROM:-0400
TZOFFSETTO:-0500
TZNAME:EST
END:STANDARD
END:VTIMEZONE
END:VCALENDAR