BEGIN:VCALENDAR
VERSION:2.0
PRODID:-//wp-events-plugin.com//6.6.4.4//EN
TZID:America/Kentucky/Louisville
X-WR-TIMEZONE:America/Kentucky/Louisville
BEGIN:VEVENT
UID:562@kyhumane.mediauradev.com
DTSTART;TZID=America/Kentucky/Louisville:20250809T180000
DTEND;TZID=America/Kentucky/Louisville:20250809T230000
DTSTAMP:20250809T155127Z
URL:https://kyhumane.mediauradev.com/events/32nd-annual-tuxes-tails-gala/
SUMMARY:32nd Annual Tuxes & Tails Gala
DESCRIPTION:\n\nOur annual Tuxes &amp\; Tails gala is around the corner!  T
 ickets are sold out\, but you can paw-ticipate in the silent auction from 
 the comfort of your couch.  Mobile bidding for the silent auction is OPEN 
 NOW at https://one.bidpal.net/tuxes2025/browse/all\n\n\n\nBid on amazing i
 tems like an opportunity to shadow the KHS Veterinary team\, or throw your
  hat in the ring for our  Ruby Ticket  for a chance to win $750 or the sil
 ent auction item of your choice.  The best part? Your bid supports the ani
 mals in our community as they search for loving forever homes!  DON'T WAIT
  - the silent auction closes on Saturday\, August 9 at 9 p.m. \n
ATTACH;FMTTYPE=image/jpeg:https://kyhumane.mediauradev.com/wp-content/uplo
 ads/2025/08/Tuxes-and-Tails-2025_Web-Slider_2560x1280_v2-edited.jpg
LOCATION:Louisville Marriott Downtown\, 280 W Jefferson St\, Louisville\, K
 y\, 40202\, United States
X-APPLE-STRUCTURED-LOCATION;VALUE=URI;X-ADDRESS=280 W Jefferson St\, Louisv
 ille\, Ky\, 40202\, United States;X-APPLE-RADIUS=100;X-TITLE=Louisville Ma
 rriott Downtown:geo:0,0
END:VEVENT
BEGIN:VTIMEZONE
TZID:America/Kentucky/Louisville
X-LIC-LOCATION:America/Kentucky/Louisville
BEGIN:DAYLIGHT
DTSTART:20250309T030000
TZOFFSETFROM:-0500
TZOFFSETTO:-0400
TZNAME:EDT
END:DAYLIGHT
END:VTIMEZONE
END:VCALENDAR