BEGIN:VCALENDAR
VERSION:2.0
PRODID:-//wp-events-plugin.com//6.6.4.4//EN
TZID:America/Kentucky/Louisville
X-WR-TIMEZONE:America/Kentucky/Louisville
BEGIN:VEVENT
UID:563@kyhumane.mediauradev.com
DTSTART;TZID=America/Kentucky/Louisville;VALUE=DATE:20250816
DTEND;TZID=America/Kentucky/Louisville;VALUE=DATE:20250817
DTSTAMP:20250806T171719Z
URL:https://kyhumane.mediauradev.com/events/akasha-brewing-co-roxy-day/
SUMMARY:Akasha Brewing Co. Roxy Day
DESCRIPTION:\nOur friends at Akasha Brewing Company recently lost their Bre
 wery Cat of 10 years\, Roxy. In honor of the companionship she brought to 
 their team\, Akasha is hosting a "Roxy Day" event on Saturday\, August 16.
  Complete with a special release of their Phat Cat porter and a Sketch You
 r Pet contest\, it's sure to be a beautiful celebration of Roxy's life. We
 're especially honored that proceeds from this event will benefit shelter 
 pets\, including Working Cats like Roxy. We hope to see you there!\n\n
ATTACH;FMTTYPE=image/jpeg:https://kyhumane.mediauradev.com/wp-content/uplo
 ads/2025/08/Phat-Cat-Porter-Akasha-Brewing-Co-Graphic.png
LOCATION:Akasha Brewing Company\, 909 E Market St #700\, Louisville\, KY\, 
 40206\, United States
X-APPLE-STRUCTURED-LOCATION;VALUE=URI;X-ADDRESS=909 E Market St #700\, Loui
 sville\, KY\, 40206\, United States;X-APPLE-RADIUS=100;X-TITLE=Akasha Brew
 ing Company:geo:0,0
END:VEVENT
BEGIN:VTIMEZONE
TZID:America/Kentucky/Louisville
X-LIC-LOCATION:America/Kentucky/Louisville
BEGIN:DAYLIGHT
DTSTART:20250309T030000
TZOFFSETFROM:-0500
TZOFFSETTO:-0400
TZNAME:EDT
END:DAYLIGHT
END:VTIMEZONE
END:VCALENDAR