BEGIN:VCALENDAR
VERSION:2.0
PRODID:-//wp-events-plugin.com//6.6.4.4//EN
TZID:America/Kentucky/Louisville
X-WR-TIMEZONE:America/Kentucky/Louisville
BEGIN:VEVENT
UID:471@kyhumane.mediauradev.com
DTSTART;TZID=America/Kentucky/Louisville:20241213T180000
DTEND;TZID=America/Kentucky/Louisville:20241213T200000
DTSTAMP:20241113T140354Z
URL:https://kyhumane.mediauradev.com/events/all-is-bright-holiday-celebrat
 ion/
SUMMARY:All is Bright Holiday Celebration
DESCRIPTION:\n\n\nJoin Westport Village for the annual All is Bright Magica
 l Holiday Celebration on Friday\, December 13th from 6-8pm!\nGet ready to 
 sing along to a mix of top hits and holiday tunes with MaryMary before SAN
 TA will join the band on-stage around 7:30pm for a one-of-a-kind experienc
 e!\nPrior to Santa's arrival\, discover a variety of pop-up vendors\, face
  painting\, balloon twisting\, festive entertainment\, meet-and-greets wit
 h LouCity players\, pizza by the slice with Boombozz\, a photo opp sponsor
 ed by The Pet Station Country Club and more! Many of our shops will also b
 e open late for holiday shopping!\nThank you to our friends at The Pet Sta
 tion Country Club for sponsoring our glow sticks that will be sold at the 
 event to benefit Kentucky Humane Society!\n
ATTACH;FMTTYPE=image/jpeg:https://kyhumane.mediauradev.com/wp-content/uplo
 ads/2024/11/All-is-Bright-Westport-Village.png
LOCATION:Westport Village\, 1315 Herr Lane\, Louisville\, KY\, 40222\, Unit
 ed States
X-APPLE-STRUCTURED-LOCATION;VALUE=URI;X-ADDRESS=1315 Herr Lane\, Louisville
 \, KY\, 40222\, United States;X-APPLE-RADIUS=100;X-TITLE=Westport Village:
 geo:0,0
END:VEVENT
BEGIN:VTIMEZONE
TZID:America/Kentucky/Louisville
X-LIC-LOCATION:America/Kentucky/Louisville
BEGIN:STANDARD
DTSTART:20241103T010000
TZOFFSETFROM:-0400
TZOFFSETTO:-0500
TZNAME:EST
END:STANDARD
END:VTIMEZONE
END:VCALENDAR