BEGIN:VCALENDAR
VERSION:2.0
PRODID:-//wp-events-plugin.com//6.6.4.4//EN
TZID:America/Kentucky/Louisville
X-WR-TIMEZONE:America/Kentucky/Louisville
BEGIN:VEVENT
UID:383@kyhumane.mediauradev.com
DTSTART;TZID=America/Kentucky/Louisville:20240623T110000
DTEND;TZID=America/Kentucky/Louisville:20240623T140000
DTSTAMP:20240325T170613Z
URL:https://kyhumane.mediauradev.com/events/bark-and-brunch-by-the-bridge-
 3/
SUMMARY:Bark and Brunch by the Bridge
DESCRIPTION:\nWaterfront Park\, KHS and Feeders Pet Supply are excited to j
 oin forces for the return of Bark and Brunch by the Bridge\, a pet-friendl
 y event. For the third year in a row\, this brunch series invites outdoor 
 enthusiasts and pet lovers alike to enjoy their Sundays in the beautiful s
 urroundings of Waterfront Park with their pet by their side!\n\n\n\nThis y
 ear\, the event series will take place in and around the park's newest res
 taurant\, Pig Beach BBQ. Attendees can expect a pet-friendly atmosphere in
 side with a amenu featuring delicious brunch options\, drink specials and 
 live jazz music. With ample green space\, picnic tables and a playground f
 or kids\, attendees can enjoy their meals outdoors as well!\n\n\n\nThis ye
 ar's Bark and Brunch by the Bridge series will take place on Sundays April
  14\, May 19\, June 23\, July 21\, August 25 and September 15 from 11 a.m.
  - 2 p.m. \n\n\n\n\n\n\n\nEach Bark and Brunch will feature pet-friendly v
 endors and KHS will be on-site with adorable puppies and giveaways\, swag 
 and merchandise. In addition\, Yoga Louisville Downtown will be offering a
  10:30 a.m. yoga class on each brunch date in the Brown-Forman Amphitheate
 r. \n\n\n\nAll canine attendees must be up-to-date on vaccinations to paw-
 ticipate\, and must remain leased at all times in order to create a safe a
 nd fun environment for all. \n
ATTACH;FMTTYPE=image/jpeg:https://kyhumane.mediauradev.com/wp-content/uplo
 ads/2024/03/Bark-Brunch-Square-2024-2.png
LOCATION:Pig Beach BBQ\, 1201 River Rd\, Louisville\, KY\, 40206\, United S
 tates
X-APPLE-STRUCTURED-LOCATION;VALUE=URI;X-ADDRESS=1201 River Rd\, Louisville\
 , KY\, 40206\, United States;X-APPLE-RADIUS=100;X-TITLE=Pig Beach BBQ:geo:
 0,0
END:VEVENT
BEGIN:VTIMEZONE
TZID:America/Kentucky/Louisville
X-LIC-LOCATION:America/Kentucky/Louisville
BEGIN:DAYLIGHT
DTSTART:20240310T030000
TZOFFSETFROM:-0500
TZOFFSETTO:-0400
TZNAME:EDT
END:DAYLIGHT
END:VTIMEZONE
END:VCALENDAR