BEGIN:VCALENDAR
VERSION:2.0
PRODID:-//wp-events-plugin.com//6.6.4.4//EN
TZID:America/Kentucky/Louisville
X-WR-TIMEZONE:America/Kentucky/Louisville
BEGIN:VEVENT
UID:282@kyhumane.mediauradev.com
DTSTART;TZID=America/Kentucky/Louisville:20230719T173000
DTEND;TZID=America/Kentucky/Louisville:20230719T203000
DTSTAMP:20230628T172643Z
URL:https://kyhumane.mediauradev.com/events/bourbon-barks-2/
SUMMARY:Bourbon & Barks
DESCRIPTION:\nWednesday\, July 19 at CASK Southern Kitchen &amp\; Bar\n\n\n
 \n\n\n\n\nYOU'RE INVITED to CASK Southern Kitchen &amp\; Bar for their 3rd
  Annual Bourbon &amp\; Barks event on Wednesday\, July 19 from 5:30 p.m. -
  8:30 p.m.! This amazing dog-friendly evening will feature live music\, ha
 nd-dipped Maker's Mark puppy treats\, souvenirs\, raffles\, and of course 
 - LOTS OF PUPPIES AND BOURBON! Our friends from Maker's Mark will be getti
 ng the party started\, and KHS will be on-site with adorable puppies for y
 ou to cuddle. Plus\, a portion of all cocktail proceeds will benefit KHS' 
 sweet shelter animals as they continue to search for furever homes. We can
 't wait to see you at this paw-some dog-friendly event!\n
ATTACH;FMTTYPE=image/jpeg:https://kyhumane.mediauradev.com/wp-content/uplo
 ads/2023/06/Cask-Southern-Kitchen-Bar-logo-full-black.png
LOCATION:Cask Southern Kitchen and Bar\, 9980 Linn Station Rd\, Louisville\
 , United States
X-APPLE-STRUCTURED-LOCATION;VALUE=URI;X-ADDRESS=9980 Linn Station Rd\, Loui
 sville\, United States;X-APPLE-RADIUS=100;X-TITLE=Cask Southern Kitchen an
 d Bar:geo:0,0
END:VEVENT
BEGIN:VTIMEZONE
TZID:America/Kentucky/Louisville
X-LIC-LOCATION:America/Kentucky/Louisville
BEGIN:DAYLIGHT
DTSTART:20230312T030000
TZOFFSETFROM:-0500
TZOFFSETTO:-0400
TZNAME:EDT
END:DAYLIGHT
END:VTIMEZONE
END:VCALENDAR