BEGIN:VCALENDAR
VERSION:2.0
PRODID:-//wp-events-plugin.com//6.6.4.4//EN
TZID:America/Kentucky/Louisville
X-WR-TIMEZONE:America/Kentucky/Louisville
BEGIN:VEVENT
UID:93@kyhumane.mediauradev.com
DTSTART;TZID=America/Kentucky/Louisville:20211202T000000
DTEND;TZID=America/Kentucky/Louisville:20211205T000000
DTSTAMP:20211201T171029Z
URL:https://kyhumane.mediauradev.com/events/caring-customers-holiday-shopp
 ing-weekend/
SUMMARY:Caring Customers Holiday Shopping Weekend
DESCRIPTION:\n\n\n\n\nDigs Home and Garden and Petals Louisville have teame
 d up to give back to the community this Holiday Season with their first Ca
 ring Customers Holiday Shopping Weekend!\n\n\n\nFrom Thursday\, December 2
 nd until Sunday\, December 5th\, Petals will donate 10% of sales to the Le
 ukemia and Lymphoma Society in honor of Petals co-owner Jeff Wallitsch’s
  mother\, who is a cancer survivor. Digs Home and Garden will donate 10% o
 f sales to the animals of the Kentucky Humane Society!\n\n\n\nAs an added 
 treat on Saturday\, December 4th\, Digs and Petals will have holiday refre
 shments to enjoy while guests browse. Additionally\, guests will have the 
 opportunity to meet The Voice of Louisville’s new Editor-in-Chief\, Alex
  Hepfinger\, from 11am to 2pm. Shoppers can also register to win a one-yea
 r subscription to The Voice.\n\n\n\nThe shopping weekend is free to attend
  and will take place during regular business hours as follows:Dec. 2 -4 | 
 10am -5pmDec. 5 | Noon - 4pm\n\n\n\nLearn more here. \n
ATTACH;FMTTYPE=image/jpeg:https://kyhumane.mediauradev.com/wp-content/uplo
 ads/2021/12/crm.jpg
END:VEVENT
BEGIN:VTIMEZONE
TZID:America/Kentucky/Louisville
X-LIC-LOCATION:America/Kentucky/Louisville
BEGIN:STANDARD
DTSTART:20211107T010000
TZOFFSETFROM:-0400
TZOFFSETTO:-0500
TZNAME:EST
END:STANDARD
END:VTIMEZONE
END:VCALENDAR