BEGIN:VCALENDAR
VERSION:2.0
PRODID:-//wp-events-plugin.com//6.6.4.4//EN
TZID:America/Kentucky/Louisville
X-WR-TIMEZONE:America/Kentucky/Louisville
BEGIN:VEVENT
UID:465@kyhumane.mediauradev.com
DTSTART;TZID=America/Kentucky/Louisville:20241116T100000
DTEND;TZID=America/Kentucky/Louisville:20241116T130000
DTSTAMP:20241105T205249Z
URL:https://kyhumane.mediauradev.com/events/cave-hill-dog-walk/
SUMMARY:Cave Hill Dog Walk
DESCRIPTION:\n\nWe're joining PG&amp\;Js Dog Park Bar on Saturday\, Novembe
 r 16 for their FIRST EVER Cave Hill Dog Walk! Join us from 10 a.m. - 1 p.m
 . to explore the Cave Hill Cemetery &amp\; Arboretum grounds and visit wit
 h local animal welfare organizations with your furry friend. It's sure to 
 be a paw-some day supporting shelter pets!
ATTACH;FMTTYPE=image/jpeg:https://kyhumane.mediauradev.com/wp-content/uplo
 ads/2024/11/Cavehill-Dog-Walk.jpg
LOCATION:Cave Hill Cemetary\, 701 Baxter Ave.\, Louisville\, Kentucky\, 402
 04\, United States
X-APPLE-STRUCTURED-LOCATION;VALUE=URI;X-ADDRESS=701 Baxter Ave.\, Louisvill
 e\, Kentucky\, 40204\, United States;X-APPLE-RADIUS=100;X-TITLE=Cave Hill 
 Cemetary:geo:0,0
END:VEVENT
BEGIN:VTIMEZONE
TZID:America/Kentucky/Louisville
X-LIC-LOCATION:America/Kentucky/Louisville
BEGIN:STANDARD
DTSTART:20241103T010000
TZOFFSETFROM:-0400
TZOFFSETTO:-0500
TZNAME:EST
END:STANDARD
END:VTIMEZONE
END:VCALENDAR