BEGIN:VCALENDAR
VERSION:2.0
PRODID:-//wp-events-plugin.com//6.6.4.4//EN
TZID:America/Kentucky/Louisville
X-WR-TIMEZONE:America/Kentucky/Louisville
BEGIN:VEVENT
UID:307@kyhumane.mediauradev.com
DTSTART;TZID=America/Kentucky/Louisville:20230826T150000
DTEND;TZID=America/Kentucky/Louisville:20230826T180000
DTSTAMP:20230821T212645Z
URL:https://kyhumane.mediauradev.com/events/club-k9-national-dog-day-corn-
 hole-tourney/
SUMMARY:Club K9 National Dog Day Corn Hole Tourney
DESCRIPTION:\nJoin us on August 26 for a fun filled day at Club K9! We will
  have a corn hole tournament\, dog-themed vendors\, a dog photo contest\, 
 food by Taco Mi Ranchitos and adoptable KHS puppies for you to snuggle! Pl
 us\, with any dog adopted through KHS on August 26th\, Club K9 will donate
  a free year membership (valued at $300).\n\n\n\nTo enter the corn hole to
 urnament\, scan the QR code below and include your team name in the paymen
 t description - it's that easy!\n\n\n\nNo dog? That’s no problem! Humans
  must be 18+ and enter free! Dogs must be fixed and up to date on Rabies\,
  Distemper\, and Bordetella. Vaccinations must be sent to us via email (Cl
 ubk9louisville@gmail.com). We offer doggie day passes\, monthly membership
 s\, and yearly memberships!\n\n\n\n\n
ATTACH;FMTTYPE=image/jpeg:https://kyhumane.mediauradev.com/wp-content/uplo
 ads/2023/08/National-Dog-Day-Corn-Hole-Tourney-benefitting-KHS.jpg
LOCATION:Club K9\, 9316 Taylorsville Rd\, Louisville\, KY\, 40299\, United 
 States
X-APPLE-STRUCTURED-LOCATION;VALUE=URI;X-ADDRESS=9316 Taylorsville Rd\, Loui
 sville\, KY\, 40299\, United States;X-APPLE-RADIUS=100;X-TITLE=Club K9:geo
 :0,0
END:VEVENT
BEGIN:VTIMEZONE
TZID:America/Kentucky/Louisville
X-LIC-LOCATION:America/Kentucky/Louisville
BEGIN:DAYLIGHT
DTSTART:20230312T030000
TZOFFSETFROM:-0500
TZOFFSETTO:-0400
TZNAME:EDT
END:DAYLIGHT
END:VTIMEZONE
END:VCALENDAR