BEGIN:VCALENDAR
VERSION:2.0
PRODID:-//wp-events-plugin.com//6.6.4.4//EN
TZID:America/Kentucky/Louisville
X-WR-TIMEZONE:America/Kentucky/Louisville
BEGIN:VEVENT
UID:616@kyhumane.mediauradev.com
DTSTART;TZID=America/Kentucky/Louisville:20250101T000000
DTEND;TZID=America/Kentucky/Louisville:20250331T000000
DTSTAMP:20251202T164750Z
URL:https://kyhumane.mediauradev.com/events/cupcakes-for-a-cause-with-megs
 -magical-morsels/
SUMMARY:Cupcakes for A Cause with Meg's Magical Morsels
DESCRIPTION:We are teaming up with Meg's Magical Morsels for another Cupcak
 es for a Cause Giveback! Any orders made from January-March 2026 will bene
 fit KHS\, even if the pickup date is later in the year. Shop here to help 
 support our shelter animals!
ATTACH;FMTTYPE=image/jpeg:https://kyhumane.mediauradev.com/wp-content/uplo
 ads/2025/12/KHS-Cupcake-for-a-Cause-Logo-1.png
END:VEVENT
BEGIN:VTIMEZONE
TZID:America/Kentucky/Louisville
X-LIC-LOCATION:America/Kentucky/Louisville
BEGIN:STANDARD
DTSTART:20241103T010000
TZOFFSETFROM:-0400
TZOFFSETTO:-0500
TZNAME:EST
END:STANDARD
BEGIN:DAYLIGHT
DTSTART:20250309T030000
TZOFFSETFROM:-0500
TZOFFSETTO:-0400
TZNAME:EDT
END:DAYLIGHT
END:VTIMEZONE
END:VCALENDAR