BEGIN:VCALENDAR
VERSION:2.0
PRODID:-//wp-events-plugin.com//6.6.4.4//EN
TZID:America/Kentucky/Louisville
X-WR-TIMEZONE:America/Kentucky/Louisville
BEGIN:VEVENT
UID:464@kyhumane.mediauradev.com
DTSTART;TZID=America/Kentucky/Louisville:20241102T090000
DTEND;TZID=America/Kentucky/Louisville:20241102T120000
DTSTAMP:20241024T164907Z
URL:https://kyhumane.mediauradev.com/events/day-of-the-deadlift-2/
SUMMARY:Day of the Deadlift
DESCRIPTION:\n\n\nJoin KHS at Distilled Fitness on Saturday\, November 2 fr
 om 9 a.m. - 12 p.m. for a special DAY OF THE DEADLIFT workout!  Experience
  a thrilling\, Halloween-inspired workout challenge\, win fantastic prizes
 \, and enjoy spooky surprises along the way.  Then\, reward yourself for a
  job well-done by snuggling some sweet KHS puppies! \n\n\n\nLearn more and
  sign up: https://distilledfitness.com/events/\n
ATTACH;FMTTYPE=image/jpeg:https://kyhumane.mediauradev.com/wp-content/uplo
 ads/2024/10/Day-of-the-Deadlift-2024.jpg
END:VEVENT
BEGIN:VTIMEZONE
TZID:America/Kentucky/Louisville
X-LIC-LOCATION:America/Kentucky/Louisville
BEGIN:DAYLIGHT
DTSTART:20240310T030000
TZOFFSETFROM:-0500
TZOFFSETTO:-0400
TZNAME:EDT
END:DAYLIGHT
END:VTIMEZONE
END:VCALENDAR