BEGIN:VCALENDAR
VERSION:2.0
PRODID:-//wp-events-plugin.com//6.6.4.4//EN
TZID:America/Kentucky/Louisville
X-WR-TIMEZONE:America/Kentucky/Louisville
BEGIN:VEVENT
UID:327@kyhumane.mediauradev.com
DTSTART;TZID=America/Kentucky/Louisville:20231028T090000
DTEND;TZID=America/Kentucky/Louisville:20231028T110000
DTSTAMP:20231010T205023Z
URL:https://kyhumane.mediauradev.com/events/day-of-the-deadlift/
SUMMARY:Day of the Deadlift
DESCRIPTION:\nSaturday\, October 28 from 9-11 a.m.\n\n\n\n\n\n\n\nJoin us a
 t Distilled Fitness on October 28 for a special "Day of the Deadlift" work
 out! Experience a thrilling\, Halloween-inspired workout challenge\, win f
 antastic prizes and enjoy spooky surprises along the way. Then\, reward yo
 urself for a job well-done by snuggling some sweet KHS puppies!\n\n\n\n\nR
 egister for Day of the Deadlift\n\n\n\n\nDon't miss this opportunity to ha
 ve a blast\, get fit\, and make a positive impact on the lives of shelter 
 animals all while getting your "spooky" on! Click here to register now.\n
ATTACH;FMTTYPE=image/jpeg:https://kyhumane.mediauradev.com/wp-content/uplo
 ads/2023/10/2.png
LOCATION:Distilled Fitness\, 512 Lyndon Lane\, Louisville\, KY\, 40222\, Un
 ited States
X-APPLE-STRUCTURED-LOCATION;VALUE=URI;X-ADDRESS=512 Lyndon Lane\, Louisvill
 e\, KY\, 40222\, United States;X-APPLE-RADIUS=100;X-TITLE=Distilled Fitnes
 s:geo:0,0
END:VEVENT
BEGIN:VTIMEZONE
TZID:America/Kentucky/Louisville
X-LIC-LOCATION:America/Kentucky/Louisville
BEGIN:DAYLIGHT
DTSTART:20230312T030000
TZOFFSETFROM:-0500
TZOFFSETTO:-0400
TZNAME:EDT
END:DAYLIGHT
END:VTIMEZONE
END:VCALENDAR