BEGIN:VCALENDAR
VERSION:2.0
PRODID:-//wp-events-plugin.com//6.6.4.4//EN
TZID:America/Kentucky/Louisville
X-WR-TIMEZONE:America/Kentucky/Louisville
BEGIN:VEVENT
UID:54@kyhumane.mediauradev.com
DTSTART;TZID=America/New_York:20210817T181500
DTEND;TZID=America/New_York:20210817T213000
DTSTAMP:20210809T162053Z
URL:https://kyhumane.mediauradev.com/events/dog-day-at-the-park-aug-17/
SUMMARY:Dog Day at the Park Aug. 17
DESCRIPTION:Calling all baseball-loving dogs and their families! The Louisv
 ille Bats’ paw-pular dog-loving games are back! Reserve your seats today
  for Dog Day at the Park at Slugger Field
ATTACH;FMTTYPE=image/jpeg:https://kyhumane.mediauradev.com/wp-content/uplo
 ads/2021/04/dogday4.jpg
CATEGORIES:Fundraising Event
END:VEVENT
BEGIN:VTIMEZONE
TZID:America/New_York
X-LIC-LOCATION:America/New_York
BEGIN:DAYLIGHT
DTSTART:20210314T030000
TZOFFSETFROM:-0500
TZOFFSETTO:-0400
TZNAME:EDT
END:DAYLIGHT
END:VTIMEZONE
END:VCALENDAR