BEGIN:VCALENDAR
VERSION:2.0
PRODID:-//wp-events-plugin.com//6.6.4.4//EN
TZID:America/Kentucky/Louisville
X-WR-TIMEZONE:America/Kentucky/Louisville
BEGIN:VEVENT
UID:287@kyhumane.mediauradev.com
DTSTART;TZID=America/Kentucky/Louisville:20230805T120000
DTEND;TZID=America/Kentucky/Louisville:20230805T200000
DTSTAMP:20230710T204731Z
URL:https://kyhumane.mediauradev.com/events/dog-days-of-summer-at-monnik/
SUMMARY:Dog Days of Summer at Monnik
DESCRIPTION:\nAugust 5\, 2023 at Monnik Beer Company\n\n\n\nSave the date! 
 After a two-year hiatus\, Monnik Beer’s Dog Days of Summer event is pois
 ed to make a triumphant return on Saturday\, August 5th\, to the Schnitzel
 burg neighborhood.\n\n\n\nThis year\, the Dog Days of Summer event will hi
 ghlight a unique beer collaboration featuring a label designed by Louisvil
 le Ale Trail. The limited run label itself serves as part of the fundraisi
 ng efforts of the event. Louisville Ale Trail and Monnik are issuing a cal
 l to action for all local dog lovers\, encouraging them to donate to the K
 entucky Humane Society. In return\, a “1x1” print of their beloved dog
 s will be immortalized on our beer label!\n\n\n\nFeaturing nearly twenty l
 ocal dogs and a $100 donation for each entry\, we proudly present what we 
 believe is The World’s Most Expensive Beer Label.\n\n\n\nThis distinct b
 eer and label combo will be available in limited quantities on August 5th\
 , the day of the event. Monnik will donate a portion of sales that day dir
 ectly to the Kentucky Humane Society as well.\n\n\n\nThe Dog Days of Summe
 r event promises a day full of fun for all dogs\, large and small. We've p
 lanned everything from outdoor pools and sprinklers to dog-specific vendor
 s and even a dog show. To cap it off\, KHS will be on-site with adorable d
 ogs ready for adoption and open for further donations.\n\n\n\n\n
ATTACH;FMTTYPE=image/jpeg:https://kyhumane.mediauradev.com/wp-content/uplo
 ads/2023/07/Dogdays-23-scaled.jpg
LOCATION:Monnik Beer Company\, 1036 E. Burnett Ave\, Louisville\, KY\, 4021
 7\, United States
X-APPLE-STRUCTURED-LOCATION;VALUE=URI;X-ADDRESS=1036 E. Burnett Ave\, Louis
 ville\, KY\, 40217\, United States;X-APPLE-RADIUS=100;X-TITLE=Monnik Beer 
 Company:geo:0,0
END:VEVENT
BEGIN:VTIMEZONE
TZID:America/Kentucky/Louisville
X-LIC-LOCATION:America/Kentucky/Louisville
BEGIN:DAYLIGHT
DTSTART:20230312T030000
TZOFFSETFROM:-0500
TZOFFSETTO:-0400
TZNAME:EDT
END:DAYLIGHT
END:VTIMEZONE
END:VCALENDAR