BEGIN:VCALENDAR
VERSION:2.0
PRODID:-//wp-events-plugin.com//6.6.4.4//EN
TZID:America/Kentucky/Louisville
X-WR-TIMEZONE:America/Kentucky/Louisville
BEGIN:VEVENT
UID:432@kyhumane.mediauradev.com
DTSTART;TZID=America/Kentucky/Louisville:20240817T120000
DTEND;TZID=America/Kentucky/Louisville:20240817T200000
DTSTAMP:20240816T203607Z
URL:https://kyhumane.mediauradev.com/events/dog-days-of-summer-block-party
 /
SUMMARY:Dog Days of Summer Block Party
DESCRIPTION:\nLouisville Ale Trail and Monnik Louisville are throwing a can
 ine block party!\n\n\n\n\n\n\n\nJoin us on Saturday\, August 17 from 12-8 
 p.m. for the DOG DAYS OF SUMMER! This dog-centric day features dog-friendl
 y vendors\, delicious brews and a dog show where your pup could win prizes
  for categories such as "Waggiest Tail" and "Dog Most Like its Owner!" The
  best part? Proceeds from this paw-some event benefit the shelter pets of 
 KHS.\n
LOCATION:Monnik Beer Company\, 1036 E. Burnett Ave\, Louisville\, KY\, 4021
 7\, United States
X-APPLE-STRUCTURED-LOCATION;VALUE=URI;X-ADDRESS=1036 E. Burnett Ave\, Louis
 ville\, KY\, 40217\, United States;X-APPLE-RADIUS=100;X-TITLE=Monnik Beer 
 Company:geo:0,0
END:VEVENT
BEGIN:VTIMEZONE
TZID:America/Kentucky/Louisville
X-LIC-LOCATION:America/Kentucky/Louisville
BEGIN:DAYLIGHT
DTSTART:20240310T030000
TZOFFSETFROM:-0500
TZOFFSETTO:-0400
TZNAME:EDT
END:DAYLIGHT
END:VTIMEZONE
END:VCALENDAR