BEGIN:VCALENDAR
VERSION:2.0
PRODID:-//wp-events-plugin.com//6.6.4.4//EN
TZID:America/Kentucky/Louisville
X-WR-TIMEZONE:America/Kentucky/Louisville
BEGIN:VEVENT
UID:88@kyhumane.mediauradev.com
DTSTART;TZID=America/Kentucky/Louisville:20211202T180000
DTEND;TZID=America/Kentucky/Louisville:20211202T210000
DTSTAMP:20211109T212844Z
URL:https://kyhumane.mediauradev.com/events/donation-drive-kick-off/
SUMMARY:Donation Drive Kick-Off
DESCRIPTION:\nHAPPY NATIONAL MUTT DAY!\n\n\n\n\n\n\n\nDid you know December
  2 is National Mutt Day? Help us celebrate our favorite mixed breed animal
  friends with an awesome donation drive and fundraiser for shelter pets! O
 ur friends at Hi-Wire Brewing are having a holiday donation drive for Kent
 ucky Humane Society shelter pets throughout the month of December and will
  be kicking off the event on Thursday\, December 2nd. Join us on this day 
 at Hi-Wire Brewing\, located at 642 Baxter Ave Suite 106\, from 6-9 p.m. a
 nd bring a pet item to help the animals of the Kentucky Humane Society. Ev
 en better\, $1 from every core &amp\; seasonal beer sold that day will be 
 donated to KHS pets in honor of National Mutt Day! Hi-Wire Brewing will be
  accepting donations to KHS throughout all of December so if you miss the 
 party\, you still have plenty of time to stop by Hi-Wire Brewing with your
  donated pet item. \n\n\n\nWhat kind of donations are most needed at the K
 entucky Humane Society? Check out our Wish List here! \n\n\n\nA big thank 
 you to our kind friends at Hi-Wire Brewing for supporting our shelter anim
 als. \n
ATTACH;FMTTYPE=image/jpeg:https://kyhumane.mediauradev.com/wp-content/uplo
 ads/2021/11/51622046606_9e50b42e29_c.jpg
END:VEVENT
BEGIN:VTIMEZONE
TZID:America/Kentucky/Louisville
X-LIC-LOCATION:America/Kentucky/Louisville
BEGIN:STANDARD
DTSTART:20211107T010000
TZOFFSETFROM:-0400
TZOFFSETTO:-0500
TZNAME:EST
END:STANDARD
END:VTIMEZONE
END:VCALENDAR