BEGIN:VCALENDAR
VERSION:2.0
PRODID:-//wp-events-plugin.com//6.6.4.4//EN
TZID:America/Kentucky/Louisville
X-WR-TIMEZONE:America/Kentucky/Louisville
BEGIN:VEVENT
UID:102@kyhumane.mediauradev.com
DTSTART;TZID=America/Kentucky/Louisville:20220119T000000
DTEND;TZID=America/Kentucky/Louisville:20220129T000000
DTSTAMP:20220119T201057Z
URL:https://kyhumane.mediauradev.com/events/donations-matched-in-honor-of-
 ethan/
SUMMARY:Donations Matched in Honor of Ethan
DESCRIPTION:Every gift the Kentucky Humane Society receives before midnight
  on January 29\, 2022 will be matched – dollar for dollar – up to $15\
 ,000.
ATTACH;FMTTYPE=image/jpeg:https://kyhumane.mediauradev.com/wp-content/uplo
 ads/2022/01/ethan2-2.jpg
END:VEVENT
BEGIN:VTIMEZONE
TZID:America/Kentucky/Louisville
X-LIC-LOCATION:America/Kentucky/Louisville
BEGIN:STANDARD
DTSTART:20211107T010000
TZOFFSETFROM:-0400
TZOFFSETTO:-0500
TZNAME:EST
END:STANDARD
END:VTIMEZONE
END:VCALENDAR