BEGIN:VCALENDAR
VERSION:2.0
PRODID:-//wp-events-plugin.com//6.6.4.4//EN
TZID:America/Kentucky/Louisville
X-WR-TIMEZONE:America/Kentucky/Louisville
BEGIN:VEVENT
UID:57@kyhumane.mediauradev.com
DTSTART;VALUE=DATE:20210817
DTEND;VALUE=DATE:20210822
DTSTAMP:20210816T165010Z
URL:https://kyhumane.mediauradev.com/events/empty-the-shelters-aug-17-21/
SUMMARY:Empty the Shelters Aug. 17-21
DESCRIPTION:This national event is dedicated to ensuring large dogs (40 lbs
 . or more)\, adult cats (six months or older) and senior dogs (seven years
  or older) get adopted into loving homes. During 
ATTACH;FMTTYPE=image/jpeg:https://kyhumane.mediauradev.com/wp-content/uplo
 ads/2021/08/2021-ETS-BigDogCat-Cover-Photo-17-21-copy.png
CATEGORIES:Fundraising Event
END:VEVENT
END:VCALENDAR