BEGIN:VCALENDAR
VERSION:2.0
PRODID:-//wp-events-plugin.com//6.6.4.4//EN
TZID:America/Kentucky/Louisville
X-WR-TIMEZONE:America/Kentucky/Louisville
BEGIN:VEVENT
UID:330@kyhumane.mediauradev.com
DTSTART;TZID=America/Kentucky/Louisville:20231111T090000
DTEND;TZID=America/Kentucky/Louisville:20231111T170000
DTSTAMP:20231012T214301Z
URL:https://kyhumane.mediauradev.com/events/equine-disaster-planning-emerg
 ency-preparedness-training-clinic/
SUMMARY:Equine Disaster Planning & Emergency Preparedness Training Clinic
DESCRIPTION:\nSaturday\, November 11 from 9 a.m. - 5 p.m.\n\n\n\nAre you pr
 epared for the worst? Let us help you help your horses at our First Equine
  Aid Disaster Planning &amp\; Emergency Preparedness Clinic on Saturday\, 
 November 11. \n\n\n\nA MUST for any livestock owner\, this course will tra
 in you in fire prevention\, planning for and executing safe evacuation pro
 cedures\, hidden dangers and risk management. It also covers what to do in
  natural disasters such as flooding\, wild fires\, ice storms\, hurricanes
 \, tornadoes and more. \n\n\n\nThis course is suitable for any livestock o
 peration\, not just horses\, and is supported by the insurance industry. A
 ll attendees receive a certificate of completion and a manual.\n\n\n\nLear
 n more and register here: https://firstequineaid.com/clinics \n\n\n\n\n
ATTACH;FMTTYPE=image/jpeg:https://kyhumane.mediauradev.com/wp-content/uplo
 ads/2023/10/Disaster-Planning-Emergency-Preparedness-Training-11.11.23.jpg
LOCATION:KHS Willow Hope Farm\, 4416 Todds Point Road\, Simpsonville\, KY\,
  40067\, United States
X-APPLE-STRUCTURED-LOCATION;VALUE=URI;X-ADDRESS=4416 Todds Point Road\, Sim
 psonville\, KY\, 40067\, United States;X-APPLE-RADIUS=100;X-TITLE=KHS Will
 ow Hope Farm:geo:0,0
END:VEVENT
BEGIN:VTIMEZONE
TZID:America/Kentucky/Louisville
X-LIC-LOCATION:America/Kentucky/Louisville
BEGIN:STANDARD
DTSTART:20231105T010000
TZOFFSETFROM:-0400
TZOFFSETTO:-0500
TZNAME:EST
END:STANDARD
END:VTIMEZONE
END:VCALENDAR