BEGIN:VCALENDAR
VERSION:2.0
PRODID:-//wp-events-plugin.com//6.6.4.4//EN
TZID:America/Kentucky/Louisville
X-WR-TIMEZONE:America/Kentucky/Louisville
BEGIN:VEVENT
UID:62@kyhumane.mediauradev.com
DTSTART;TZID=America/New_York:20210911T090000
DTEND;TZID=America/New_York:20210911T150000
DTSTAMP:20210901T152859Z
URL:https://kyhumane.mediauradev.com/events/equine-sales-assist-day/
SUMMARY:Equine Sales Assist Day
DESCRIPTION:\nAre you planning to sell your horse?&nbsp\;Get help selling y
 our horse while getting the best price with the Kentucky Humane Society’
 s&nbsp\;Best Hoof Forward Program. Our next sales assist day is Saturday\,
  September 11. &nbsp\;\n\n\n\n\n\n\n\nDuring our sales assist day\,&nbsp\;
 owners bring their horse to KHS’ Willow Hope Farm in Simpsonville\, KY f
 or assessment\;&nbsp\;at no cost to you\,&nbsp\;the KHS Equine team provid
 es a professional riding and handling evaluation\, takes attractive photos
  and videos that&nbsp\;show the horse’s best attributes\, and recommends
  reputable sales outlets.&nbsp\;You will leave with your horse and&nbsp\;t
 he information&nbsp\;you&nbsp\;need to get the best sale price.&nbsp\;\n\n
 \n\n\n\n\n\nThis program is for families interested in selling their horse
  and is not part of our adoption program. Appointments are required. The n
 ext sales assist day is September 11\, 9am-3pm.\n\n\n\nTo register or for 
 more information\, contact us at 502-272-1068 or email&nbsp\;horses@kyhuma
 ne.org.\n\n\n\nFollow our&nbsp\;Equine C.A.R.E. program on Facebook\n
ATTACH;FMTTYPE=image/jpeg:https://kyhumane.mediauradev.com/wp-content/uplo
 ads/2021/09/BHF-2_rop.jpg
END:VEVENT
BEGIN:VTIMEZONE
TZID:America/New_York
X-LIC-LOCATION:America/New_York
BEGIN:DAYLIGHT
DTSTART:20210314T030000
TZOFFSETFROM:-0500
TZOFFSETTO:-0400
TZNAME:EDT
END:DAYLIGHT
END:VTIMEZONE
END:VCALENDAR