BEGIN:VCALENDAR
VERSION:2.0
PRODID:-//wp-events-plugin.com//6.6.4.4//EN
TZID:America/Kentucky/Louisville
X-WR-TIMEZONE:America/Kentucky/Louisville
BEGIN:VEVENT
UID:323@kyhumane.mediauradev.com
DTSTART;TZID=America/Kentucky/Louisville:20231021T120000
DTEND;TZID=America/Kentucky/Louisville:20231021T180000
DTSTAMP:20231010T204226Z
URL:https://kyhumane.mediauradev.com/events/ethanfest-at-mile-wide-beer-co
 /
SUMMARY:EthanFest at Mile Wide Beer Co.
DESCRIPTION:\n\n\n\n\nEthanAlmighty and Mile Wide Beer Co. have joined forc
 es to create ETHAN: An Almighty Ale! Clear your calendars for Saturday Oct
 ober 21st\, as we celebrate the one and only Ethan Almighty with a special
  beer release and fundraiser for the Kentucky Humane Society. Details to f
 ollow\, but suffice to say it'll be where all the cool kids will be.\n
ATTACH;FMTTYPE=image/jpeg:https://kyhumane.mediauradev.com/wp-content/uplo
 ads/2023/10/EthanFest.jpg
LOCATION:Mile Wide Beer Co.\, 636 Barret Ave\, Louisville\, KY\, 40204\, Un
 ited States
X-APPLE-STRUCTURED-LOCATION;VALUE=URI;X-ADDRESS=636 Barret Ave\, Louisville
 \, KY\, 40204\, United States;X-APPLE-RADIUS=100;X-TITLE=Mile Wide Beer Co
 .:geo:0,0
END:VEVENT
BEGIN:VTIMEZONE
TZID:America/Kentucky/Louisville
X-LIC-LOCATION:America/Kentucky/Louisville
BEGIN:DAYLIGHT
DTSTART:20230312T030000
TZOFFSETFROM:-0500
TZOFFSETTO:-0400
TZNAME:EDT
END:DAYLIGHT
END:VTIMEZONE
END:VCALENDAR