BEGIN:VCALENDAR
VERSION:2.0
PRODID:-//wp-events-plugin.com//6.6.4.4//EN
TZID:America/Kentucky/Louisville
X-WR-TIMEZONE:America/Kentucky/Louisville
BEGIN:VEVENT
UID:476@kyhumane.mediauradev.com
DTSTART;TZID=America/Kentucky/Louisville:20250103T110000
DTEND;TZID=America/Kentucky/Louisville:20250103T190000
DTSTAMP:20241118T171410Z
URL:https://kyhumane.mediauradev.com/events/extended-adoption-hours-at-eas
 t-campus-5/
SUMMARY:Extended Adoption Hours at East Campus
DESCRIPTION:\n\nDays are getting shorter\, but KHS is staying open later! F
 or the first time ever\, our East Campus - 1000 Lyndon Lane - will be op
 en until 7 p.m. every Friday from December 6 - January 3. Our Sam Swope P
 et TLC - 241 Steedly Drive - will continue hosting extended adoption hours
  every Thursday until 7 p.m. through January 2. That means more time afte
 r work to find your perfect match and bring them home for the holidays! C
 lick here to view all KHS locations and hours.
ATTACH;FMTTYPE=image/jpeg:https://kyhumane.mediauradev.com/wp-content/uplo
 ads/2024/11/KHS-Hour-Changes_Facebook-Cover-Photo_1200x628_EC.png
LOCATION:Kentucky Humane Society East Campus\, 1000 Lyndon Lane\, Louisvill
 e\, KY \, 40222\, United States
X-APPLE-STRUCTURED-LOCATION;VALUE=URI;X-ADDRESS=1000 Lyndon Lane\, Louisvil
 le\, KY \, 40222\, United States;X-APPLE-RADIUS=100;X-TITLE=Kentucky Human
 e Society East Campus:geo:0,0
END:VEVENT
BEGIN:VTIMEZONE
TZID:America/Kentucky/Louisville
X-LIC-LOCATION:America/Kentucky/Louisville
BEGIN:STANDARD
DTSTART:20241103T010000
TZOFFSETFROM:-0400
TZOFFSETTO:-0500
TZNAME:EST
END:STANDARD
END:VTIMEZONE
END:VCALENDAR