BEGIN:VCALENDAR
VERSION:2.0
PRODID:-//wp-events-plugin.com//6.6.4.4//EN
TZID:America/Kentucky/Louisville
X-WR-TIMEZONE:America/Kentucky/Louisville
BEGIN:VEVENT
UID:456@kyhumane.mediauradev.com
DTSTART;TZID=America/Kentucky/Louisville:20241017T163000
DTEND;TZID=America/Kentucky/Louisville:20241017T190000
DTSTAMP:20240924T160004Z
URL:https://kyhumane.mediauradev.com/events/fall-fashion-show-at-westport-
 village/
SUMMARY:Fall Fashion Show at Westport Village
DESCRIPTION:\n\n\n\nWe're so excited to join our friends at Westport Villag
 e for their 2024 Fall Fashion Show on Thursday\, October 17! Join us at th
 e green space near Collections to see adorable KHS pups (and some awesome 
 staff members) on the runway. This paw-some event features cocktail hour\,
  a complimentary photo booth\, and the opportunity to shop the looks you s
 ee on the runway!\n\n\n\nLearn more about this fun event and purchase your
  tickets here: https://tinyurl.com/2024WestportFashionShow\n
ATTACH;FMTTYPE=image/jpeg:https://kyhumane.mediauradev.com/wp-content/uplo
 ads/2024/09/fall-fashion-show.jpg
LOCATION:Westport Village\, 1315 Herr Lane\, Louisville\, KY\, 40222\, Unit
 ed States
X-APPLE-STRUCTURED-LOCATION;VALUE=URI;X-ADDRESS=1315 Herr Lane\, Louisville
 \, KY\, 40222\, United States;X-APPLE-RADIUS=100;X-TITLE=Westport Village:
 geo:0,0
END:VEVENT
BEGIN:VTIMEZONE
TZID:America/Kentucky/Louisville
X-LIC-LOCATION:America/Kentucky/Louisville
BEGIN:DAYLIGHT
DTSTART:20240310T030000
TZOFFSETFROM:-0500
TZOFFSETTO:-0400
TZNAME:EDT
END:DAYLIGHT
END:VTIMEZONE
END:VCALENDAR