BEGIN:VCALENDAR
VERSION:2.0
PRODID:-//wp-events-plugin.com//6.6.4.4//EN
TZID:America/Kentucky/Louisville
X-WR-TIMEZONE:America/Kentucky/Louisville
BEGIN:VEVENT
UID:82@kyhumane.mediauradev.com
DTSTART;TZID=America/Kentucky/Louisville;VALUE=DATE:20211013
DTEND;TZID=America/Kentucky/Louisville;VALUE=DATE:20211014
DTSTAMP:20211012T155825Z
URL:https://kyhumane.mediauradev.com/events/fall-giveathon/
SUMMARY:Fall Giveathon
DESCRIPTION:\nJoin Our Fall Giveathon Oct. 13 to Save Lives\n\n\n\nExciting
  news!&nbsp\;Our Fall Givethon&nbsp\;is Wednesday\, October 13\,&nbsp\;and
  we invite YOU to help us save more lives during this 24 hours of giving!\
 n\n\n\nFollow us on&nbsp\;Facebook&nbsp\;and&nbsp\;Twitter&nbsp\;on Wednes
 day for live updates and inspiring stories of animals rescued because of y
 our generosity!\n\n\n\nIn addition\, join us on WHAS11 from 4 to 6:30 p.m.
  – we will be broadcasting live throughout the news hours. We’ll have 
 special animal guests – and perhaps even a surprise matching gift!\n\n\n
 \nOur goal is to raise $20\,000 to help the animals through our Fall Givea
 thon. Can you help us&nbsp\;reach this goal by donating online?\n\n\n\nYou
  can also donate by texting the keyword KHS to 76278.\n\n\n\nYou can donat
 e during the Giveathon on October 13 – or you can donate early! Your gif
 t will help ensure that every homeless animal in Kentuckiana can find a ho
 me.\n\n\n\n\n\n\n\nQuestions about our gift? Call us at 502-515-3134. You 
 can also mail checks to: Kentucky Humane Society\, 1000 Lyndon Lane Suite 
 B\, Louisville KY 40222.\n
ATTACH;FMTTYPE=image/jpeg:https://kyhumane.mediauradev.com/wp-content/uplo
 ads/2021/10/giveathon-1.png
END:VEVENT
BEGIN:VTIMEZONE
TZID:America/Kentucky/Louisville
X-LIC-LOCATION:America/Kentucky/Louisville
BEGIN:DAYLIGHT
DTSTART:20210314T030000
TZOFFSETFROM:-0500
TZOFFSETTO:-0400
TZNAME:EDT
END:DAYLIGHT
END:VTIMEZONE
END:VCALENDAR