BEGIN:VCALENDAR
VERSION:2.0
PRODID:-//wp-events-plugin.com//6.6.4.4//EN
TZID:America/Kentucky/Louisville
X-WR-TIMEZONE:America/Kentucky/Louisville
BEGIN:VEVENT
UID:415@kyhumane.mediauradev.com
DTSTART;TZID=America/Kentucky/Louisville:20240629T110000
DTEND;TZID=America/Kentucky/Louisville:20240629T123000
DTSTAMP:20240628T204953Z
URL:https://kyhumane.mediauradev.com/events/foster-open-house-2/
SUMMARY:Foster Open House
DESCRIPTION:\n\n\n\n\nHave you been curious about fostering an animal\, but
  are unsure of what it entails\, what the time commitment is\, or where yo
 u should start? Join us on Saturday\, June 29 from 11 a.m. to 12:30 p.m. a
 t KHS’ Sam Swope Pet TLC (241 Steedly Drive) for our Foster Open House. 
 Our foster team will teach you all about our program and introduce you to 
 some of the shelter pets in need of breaks from shelter life. No need to R
 SVP\; just show up!\n\n\n\nWhether you're a cat person or a dog person\, h
 ave a few days or even months to give\, you can make a difference by becom
 ing a foster caregiver. Apply to be a foster parent now by visiting&nbsp\;
 kyhumane.org/foster.\n
ATTACH;FMTTYPE=image/jpeg:https://kyhumane.mediauradev.com/wp-content/uplo
 ads/2024/06/Foster-Open-House-scaled.jpg
LOCATION:Sam Swope Pet TLC (Main Campus)\, 241 Steedly Dr\, Louisville\, KY
 \, 40214\, United States
X-APPLE-STRUCTURED-LOCATION;VALUE=URI;X-ADDRESS=241 Steedly Dr\, Louisville
 \, KY\, 40214\, United States;X-APPLE-RADIUS=100;X-TITLE=Sam Swope Pet TLC
  (Main Campus):geo:0,0
END:VEVENT
BEGIN:VTIMEZONE
TZID:America/Kentucky/Louisville
X-LIC-LOCATION:America/Kentucky/Louisville
BEGIN:DAYLIGHT
DTSTART:20240310T030000
TZOFFSETFROM:-0500
TZOFFSETTO:-0400
TZNAME:EDT
END:DAYLIGHT
END:VTIMEZONE
END:VCALENDAR