BEGIN:VCALENDAR
VERSION:2.0
PRODID:-//wp-events-plugin.com//6.6.4.4//EN
TZID:America/Kentucky/Louisville
X-WR-TIMEZONE:America/Kentucky/Louisville
BEGIN:VEVENT
UID:468@kyhumane.mediauradev.com
DTSTART;TZID=America/Kentucky/Louisville:20241116T110000
DTEND;TZID=America/Kentucky/Louisville:20241116T123000
DTSTAMP:20241112T135327Z
URL:https://kyhumane.mediauradev.com/events/foster-open-house-3/
SUMMARY:Foster Open House
DESCRIPTION:\n\nWant to know how YOU can spend this winter cozied up with a
  shelter animal? Join us Saturday (11/16) at our Sam Swope Pet TLC (241 St
 eedly Drive) for our FOSTER OPEN HOUSE! Our foster team will teach you all
  about our program and introduce you to some of the animals in need of she
 lter life. No need to RSVP\; just show up!\n\n\n\nWhether you're a cat per
 son or a dog person\, you can make a difference by becoming a foster careg
 iver! Apply to be a foster parent today by visiting https://kyhumane.media
 uradev.com/get-involved/foster\n
ATTACH;FMTTYPE=image/jpeg:https://kyhumane.mediauradev.com/wp-content/uplo
 ads/2024/11/Foster-Open-House.jpg
LOCATION:Sam Swope Pet TLC (Main Campus)\, 241 Steedly Dr\, Louisville\, KY
 \, 40214\, United States
X-APPLE-STRUCTURED-LOCATION;VALUE=URI;X-ADDRESS=241 Steedly Dr\, Louisville
 \, KY\, 40214\, United States;X-APPLE-RADIUS=100;X-TITLE=Sam Swope Pet TLC
  (Main Campus):geo:0,0
END:VEVENT
BEGIN:VTIMEZONE
TZID:America/Kentucky/Louisville
X-LIC-LOCATION:America/Kentucky/Louisville
BEGIN:STANDARD
DTSTART:20241103T010000
TZOFFSETFROM:-0400
TZOFFSETTO:-0500
TZNAME:EST
END:STANDARD
END:VTIMEZONE
END:VCALENDAR