BEGIN:VCALENDAR
VERSION:2.0
PRODID:-//wp-events-plugin.com//6.6.4.4//EN
TZID:America/Kentucky/Louisville
X-WR-TIMEZONE:America/Kentucky/Louisville
BEGIN:VEVENT
UID:462@kyhumane.mediauradev.com
DTSTART;TZID=America/Kentucky/Louisville:20241023T180000
DTEND;TZID=America/Kentucky/Louisville:20241106T190000
DTSTAMP:20241104T133209Z
URL:https://kyhumane.mediauradev.com/events/four-on-the-floor-3-week-anti-
 jumping-workshop-dogs-4-months-and-older-2/
SUMMARY:Four on the Floor\, 3-week anti-jumping workshop\, dogs 4 months an
 d older
DESCRIPTION:3 weeks\nWednesdays\, 6:00 - 7:00 pm\n$75 +tax  *Enrollment clo
 sed*\n\nConcerned your dog will jump on your holiday guests? Look no furth
 er! If your dog has trouble keeping their paws on the floor (and off of yo
 u\, your kitchen counter\, and your visitors)\, this class is for you! 
ATTACH;FMTTYPE=image/jpeg:https://kyhumane.mediauradev.com/wp-content/uplo
 ads/2023/11/52124450073_b09186f662_c-e1756475385336.jpg
CATEGORIES:Behavior Training
LOCATION:Kentucky Humane Society East Campus\, 1000 Lyndon Lane\, Louisvill
 e\, KY \, 40222\, United States
X-APPLE-STRUCTURED-LOCATION;VALUE=URI;X-ADDRESS=1000 Lyndon Lane\, Louisvil
 le\, KY \, 40222\, United States;X-APPLE-RADIUS=100;X-TITLE=Kentucky Human
 e Society East Campus:geo:0,0
END:VEVENT
BEGIN:VTIMEZONE
TZID:America/Kentucky/Louisville
X-LIC-LOCATION:America/Kentucky/Louisville
BEGIN:DAYLIGHT
DTSTART:20240310T030000
TZOFFSETFROM:-0500
TZOFFSETTO:-0400
TZNAME:EDT
END:DAYLIGHT
BEGIN:STANDARD
DTSTART:20241103T010000
TZOFFSETFROM:-0400
TZOFFSETTO:-0500
TZNAME:EST
END:STANDARD
END:VTIMEZONE
END:VCALENDAR