BEGIN:VCALENDAR
VERSION:2.0
PRODID:-//wp-events-plugin.com//6.6.4.4//EN
TZID:America/Kentucky/Louisville
X-WR-TIMEZONE:America/Kentucky/Louisville
BEGIN:VEVENT
UID:451@kyhumane.mediauradev.com
DTSTART;TZID=America/Kentucky/Louisville:20241204T180000
DTEND;TZID=America/Kentucky/Louisville:20241218T190000
DTSTAMP:20241205T135351Z
URL:https://kyhumane.mediauradev.com/events/four-on-the-floor-3-week-anti-
 jumping-workshop-dogs-4-months-and-older/
SUMMARY:Four on the Floor\, 3-week anti-jumping workshop\, dogs 4 months an
 d older
DESCRIPTION:3 weeks\nWednesdays\, 6:00 - 7:00 pm\n$75 +tax\n\nConcerned you
 r dog will jump on your holiday guests? Look no further! If your dog has t
 rouble keeping their paws on the floor (and off of you\, your kitchen coun
 ter\, and your visitors)\, this class is for you! 
ATTACH;FMTTYPE=image/jpeg:https://kyhumane.mediauradev.com/wp-content/uplo
 ads/2023/11/52124450073_b09186f662_c-e1756475385336.jpg
CATEGORIES:Behavior Training
LOCATION:Kentucky Humane Society East Campus\, 1000 Lyndon Lane\, Louisvill
 e\, KY \, 40222\, United States
X-APPLE-STRUCTURED-LOCATION;VALUE=URI;X-ADDRESS=1000 Lyndon Lane\, Louisvil
 le\, KY \, 40222\, United States;X-APPLE-RADIUS=100;X-TITLE=Kentucky Human
 e Society East Campus:geo:0,0
END:VEVENT
BEGIN:VTIMEZONE
TZID:America/Kentucky/Louisville
X-LIC-LOCATION:America/Kentucky/Louisville
BEGIN:STANDARD
DTSTART:20241103T010000
TZOFFSETFROM:-0400
TZOFFSETTO:-0500
TZNAME:EST
END:STANDARD
END:VTIMEZONE
END:VCALENDAR