BEGIN:VCALENDAR
VERSION:2.0
PRODID:-//wp-events-plugin.com//6.6.4.4//EN
TZID:America/Kentucky/Louisville
X-WR-TIMEZONE:America/Kentucky/Louisville
BEGIN:VEVENT
UID:149@kyhumane.mediauradev.com
DTSTART;TZID=America/Kentucky/Louisville:20220526T170000
DTEND;TZID=America/Kentucky/Louisville:20220526T200000
DTSTAMP:20220517T152451Z
URL:https://kyhumane.mediauradev.com/events/fursdays-at-the-market/
SUMMARY:FURsdays at the Market
DESCRIPTION:Bring your pup and join us on Thursday\, May 26 from 5-8 p.m. a
 t Logan Street Market\, located at 1001 Logan Street\, for the first FURSd
 ays at the Market! 
ATTACH;FMTTYPE=image/jpeg:https://kyhumane.mediauradev.com/wp-content/uplo
 ads/2022/05/281803412_1076559863072327_3935644059861539523_n.jpg
END:VEVENT
BEGIN:VTIMEZONE
TZID:America/Kentucky/Louisville
X-LIC-LOCATION:America/Kentucky/Louisville
BEGIN:DAYLIGHT
DTSTART:20220313T030000
TZOFFSETFROM:-0500
TZOFFSETTO:-0400
TZNAME:EDT
END:DAYLIGHT
END:VTIMEZONE
END:VCALENDAR