BEGIN:VCALENDAR
VERSION:2.0
PRODID:-//wp-events-plugin.com//6.6.4.4//EN
TZID:America/Kentucky/Louisville
X-WR-TIMEZONE:America/Kentucky/Louisville
BEGIN:VEVENT
UID:631@kyhumane.mediauradev.com
DTSTART;TZID=America/Kentucky/Louisville:20260212T170000
DTEND;TZID=America/Kentucky/Louisville:20260212T200000
DTSTAMP:20260112T170941Z
URL:https://kyhumane.mediauradev.com/events/galentines-day-at-westport-vil
 lage/
SUMMARY:Galentine's Day at Westport Village
DESCRIPTION:\n\nBring your BFF's for a Galentine's Day celebration at Westp
 ort Village on Thursday\, February 12th from 5-8 p.m.!\n\nMany participati
 ng boutiques and businesses will be open late until 8 p.m. for shopping. S
 troll around the Village for special sips\, treats\, promos\, and more! KH
 S will be on site with adoptable puppies for a kissing booth photo opportu
 nity\, and all proceeds support our shelter animals.
ATTACH;FMTTYPE=image/jpeg:https://kyhumane.mediauradev.com/wp-content/uplo
 ads/2026/01/Untitled-design-58-scaled.jpg
LOCATION:Westport Village\, 1315 Herr Lane\, Louisville\, KY\, 40222\, Unit
 ed States
X-APPLE-STRUCTURED-LOCATION;VALUE=URI;X-ADDRESS=1315 Herr Lane\, Louisville
 \, KY\, 40222\, United States;X-APPLE-RADIUS=100;X-TITLE=Westport Village:
 geo:0,0
END:VEVENT
BEGIN:VTIMEZONE
TZID:America/Kentucky/Louisville
X-LIC-LOCATION:America/Kentucky/Louisville
BEGIN:STANDARD
DTSTART:20251102T010000
TZOFFSETFROM:-0400
TZOFFSETTO:-0500
TZNAME:EST
END:STANDARD
END:VTIMEZONE
END:VCALENDAR