BEGIN:VCALENDAR
VERSION:2.0
PRODID:-//wp-events-plugin.com//6.6.4.4//EN
TZID:America/Kentucky/Louisville
X-WR-TIMEZONE:America/Kentucky/Louisville
BEGIN:VEVENT
UID:217@kyhumane.mediauradev.com
DTSTART;TZID=America/Kentucky/Louisville;VALUE=DATE:20221231
DTEND;TZID=America/Kentucky/Louisville;VALUE=DATE:20230101
DTSTAMP:20221209T133742Z
URL:https://kyhumane.mediauradev.com/events/gifts-matched-thru-dec-31/
SUMMARY:Gifts Matched Thru Dec. 31
DESCRIPTION:\nPetco Love has generously offered to&nbsp\;match – DOLLAR F
 OR DOLLAR – every gift the Kentucky Humane Society receives&nbsp\;before
  on December 31 … up to $40\,000!\n\n\n\nYour holiday gift\, when matche
 d\, will save TWICE as many animals — and give them the happy\, healthy 
 lives they deserve.\n\n\n\n\n\n\n\nThanks to your support\, the Kentucky H
 umane Society can give Kentucky's cats\, dogs and horses safe haven\, nour
 ishing food\, time to heal – and loving families.\n\n\n\nThere has never
  been a more powerful time to give. Please take advantage of this chance t
 o give&nbsp\;hope to twice as many lives with your gift. Many cats\, dogs 
 and horses won’t have a home this holiday season. But your support today
  can help to change this!&nbsp\;Please donate generously today to help the
  animals!\n
ATTACH;FMTTYPE=image/jpeg:https://kyhumane.mediauradev.com/wp-content/uplo
 ads/2022/12/52418855525_dda2018a80_c.jpg
CATEGORIES:Fundraising Event
END:VEVENT
BEGIN:VTIMEZONE
TZID:America/Kentucky/Louisville
X-LIC-LOCATION:America/Kentucky/Louisville
BEGIN:STANDARD
DTSTART:20221106T010000
TZOFFSETFROM:-0400
TZOFFSETTO:-0500
TZNAME:EST
END:STANDARD
END:VTIMEZONE
END:VCALENDAR