BEGIN:VCALENDAR
VERSION:2.0
PRODID:-//wp-events-plugin.com//6.6.4.4//EN
TZID:America/Kentucky/Louisville
X-WR-TIMEZONE:America/Kentucky/Louisville
BEGIN:VEVENT
UID:64@kyhumane.mediauradev.com
DTSTART;TZID=America/Kentucky/Louisville;VALUE=DATE:20210917
DTEND;TZID=America/Kentucky/Louisville;VALUE=DATE:20210918
DTSTAMP:20210910T140434Z
URL:https://kyhumane.mediauradev.com/events/give-for-good/
SUMMARY:Give for Good
DESCRIPTION:\nGive for Good to Help the Animals on Sept. 17 Hosted by the C
 ommunity Foundation of Louisville\, Give for Good Louisville is an unprece
 dented day of unity in the name of philanthropy. Communities from across K
 entucky and Southern Indiana join forces to give vital support to 550+ par
 ticipating organizations creating positive change for thousands of individ
 uals in need. The Community Foundation invites everyone to unite for good 
 when this year's giving day returns on Friday\, September 17\, 2021!\n\n\n
 \n\n
ATTACH;FMTTYPE=image/jpeg:https://kyhumane.mediauradev.com/wp-content/uplo
 ads/2021/09/gfg2021.png
END:VEVENT
BEGIN:VTIMEZONE
TZID:America/Kentucky/Louisville
X-LIC-LOCATION:America/Kentucky/Louisville
BEGIN:DAYLIGHT
DTSTART:20210314T030000
TZOFFSETFROM:-0500
TZOFFSETTO:-0400
TZNAME:EDT
END:DAYLIGHT
END:VTIMEZONE
END:VCALENDAR