BEGIN:VCALENDAR
VERSION:2.0
PRODID:-//wp-events-plugin.com//6.6.4.4//EN
TZID:America/Kentucky/Louisville
X-WR-TIMEZONE:America/Kentucky/Louisville
BEGIN:VEVENT
UID:87@kyhumane.mediauradev.com
DTSTART;TZID=America/Kentucky/Louisville;VALUE=DATE:20211130
DTEND;TZID=America/Kentucky/Louisville;VALUE=DATE:20211201
DTSTAMP:20211129T183316Z
URL:https://kyhumane.mediauradev.com/events/giving-tuesday-2021/
SUMMARY:Giving Tuesday
DESCRIPTION:\nNovember 30 is #GivingTuesday! During this 24 hours of giving
 \, we want to do something big. With YOUR help\, we hope to&nbsp\;raise $2
 5\,000.&nbsp\;This is enough to prepare an additional 100 animals for adop
 tion. Please remember the animals at the Kentucky Humane Society on Giving
  Tuesday with your donation!\n\n\n\nIt takes $250 to provide each animal w
 ith food\, medical care and a warm place to stay until they find their for
 ever home.&nbsp\;On this national day of giving\, will you make a lifesavi
 ng gift to help the dogs\, cats and horses in our care? We will share our 
 progress throughout the day on Facebook and Twitter.\n\n\n\nLet’s see ho
 w many more animals can&nbsp\;we can save&nbsp\;because of you and other k
 ind donors!\n\n\n\n\n
ATTACH;FMTTYPE=image/jpeg:https://kyhumane.mediauradev.com/wp-content/uplo
 ads/2021/11/GT-cat-banner.png
END:VEVENT
BEGIN:VTIMEZONE
TZID:America/Kentucky/Louisville
X-LIC-LOCATION:America/Kentucky/Louisville
BEGIN:STANDARD
DTSTART:20211107T010000
TZOFFSETFROM:-0400
TZOFFSETTO:-0500
TZNAME:EST
END:STANDARD
END:VTIMEZONE
END:VCALENDAR