BEGIN:VCALENDAR
VERSION:2.0
PRODID:-//wp-events-plugin.com//6.6.4.4//EN
TZID:America/Kentucky/Louisville
X-WR-TIMEZONE:America/Kentucky/Louisville
BEGIN:VEVENT
UID:329@kyhumane.mediauradev.com
DTSTART;TZID=America/Kentucky/Louisville:20231021T190000
DTEND;TZID=America/Kentucky/Louisville:20231021T190000
DTSTAMP:20231011T154045Z
URL:https://kyhumane.mediauradev.com/events/hallo-woof-dog-costume-contest
 -at-shopbar/
SUMMARY:Hallo-Woof Dog Costume Contest at ShopBar
DESCRIPTION:\nSaturday\, October 21 at 7 p.m. \n\n\n\nJoin us at ShopBar on
  Saturday\, October 21 for their Hallo-Woof Dog Costume Contest!\n\n\n\n\n
 \n\n\nBarking starts at 5 p.m.Judging begins at 7 p.m. Howling lasts until
  last call at 1 p.m.We can't wait to see you (and your furry best friend) 
 there!\n
ATTACH;FMTTYPE=image/jpeg:https://kyhumane.mediauradev.com/wp-content/uplo
 ads/2023/10/ShopBar-Hallo-Woof-Dog-Costume-Contest.jpg
LOCATION:ShopBar Bar & Boutique\, 950 Barret Avenue\, Louisville\, KY\, 402
 04\, United States
X-APPLE-STRUCTURED-LOCATION;VALUE=URI;X-ADDRESS=950 Barret Avenue\, Louisvi
 lle\, KY\, 40204\, United States;X-APPLE-RADIUS=100;X-TITLE=ShopBar Bar & 
 Boutique:geo:0,0
END:VEVENT
BEGIN:VTIMEZONE
TZID:America/Kentucky/Louisville
X-LIC-LOCATION:America/Kentucky/Louisville
BEGIN:DAYLIGHT
DTSTART:20230312T030000
TZOFFSETFROM:-0500
TZOFFSETTO:-0400
TZNAME:EDT
END:DAYLIGHT
END:VTIMEZONE
END:VCALENDAR