BEGIN:VCALENDAR
VERSION:2.0
PRODID:-//wp-events-plugin.com//6.6.4.4//EN
TZID:America/Kentucky/Louisville
X-WR-TIMEZONE:America/Kentucky/Louisville
BEGIN:VEVENT
UID:511@kyhumane.mediauradev.com
DTSTART;TZID=America/Kentucky/Louisville:20250510T120000
DTEND;TZID=America/Kentucky/Louisville:20250510T160000
DTSTAMP:20250318T163735Z
URL:https://kyhumane.mediauradev.com/events/hammers-lou-adopts-2/
SUMMARY:Hammer's Lou Adopts
DESCRIPTION:\n\nThe Kentucky Humane Society with Metro Animal Services is h
 osting the third annual Hammer’s Lou Adopts\, a mega adoption event aimi
 ng to find loving homes for nearly 200 adoptable local dogs and puppies. O
 nce again sponsored by Isaacs &amp\; Isaacs Personal Injury Lawyers\, Hamm
 er’s Lou Adopts will offer on-site adoptions at the Kentucky Fair and Ex
 position Center Pavilion on Saturday\, May 10 from noon – 4:00 p.m. Afte
 r finding homes for 270 dogs in the last two years\, we are excited to fin
 d homes for more homes for more dogs!\n\nKHS and MAS will be joined at Ha
 mmer’s Lou Adopts by several other local shelters to offer the public a 
 large variety of friendly\, loving local dogs and puppies who are availabl
 e for adoption on-site.\n\nAdoption fees will vary by shelter. Jefferson C
 ounty adopters will be required to pay a $10.50 licensing fee for each ado
 ption. All the dogs and puppies will be spayed/neutered\, micro-chipped an
 d up-to-date on vaccinations. Adopters are encouraged to bring their resi
 dent dogs so they can meet any potential dog siblings and to bring their d
 ogs’ vaccine records.
ATTACH;FMTTYPE=image/jpeg:https://kyhumane.mediauradev.com/wp-content/uplo
 ads/2025/03/Lou-Adopts-Facebook-Event-Image_1200x628_web-1-scaled.jpg
LOCATION:Kentucky Fair and Exposition Center Pavilion\, 937 Phillips Lane\,
  Louisville\, Kentucky\, 40209\, United States
X-APPLE-STRUCTURED-LOCATION;VALUE=URI;X-ADDRESS=937 Phillips Lane\, Louisvi
 lle\, Kentucky\, 40209\, United States;X-APPLE-RADIUS=100;X-TITLE=Kentucky
  Fair and Exposition Center Pavilion:geo:0,0
END:VEVENT
BEGIN:VTIMEZONE
TZID:America/Kentucky/Louisville
X-LIC-LOCATION:America/Kentucky/Louisville
BEGIN:DAYLIGHT
DTSTART:20250309T030000
TZOFFSETFROM:-0500
TZOFFSETTO:-0400
TZNAME:EDT
END:DAYLIGHT
END:VTIMEZONE
END:VCALENDAR