BEGIN:VCALENDAR
VERSION:2.0
PRODID:-//wp-events-plugin.com//6.6.4.4//EN
TZID:America/Kentucky/Louisville
X-WR-TIMEZONE:America/Kentucky/Louisville
BEGIN:VEVENT
UID:584@kyhumane.mediauradev.com
DTSTART;TZID=America/Kentucky/Louisville:20250913T160000
DTEND;TZID=America/Kentucky/Louisville:20250913T210000
DTSTAMP:20250903T140458Z
URL:https://kyhumane.mediauradev.com/events/hi-way-muffler-car-show/
SUMMARY:Hi-Way Muffler Car Show
DESCRIPTION:\n\nJoin Hi-Way Muffler for their first annual Customer Appreci
 ation Day Cruise-In Car Show benefitting the Kentucky Humane Society!\n\nS
 how off your ride - All makes and models welcome. Enjoy food on the grill 
 while supporting KHS and helping animals in need.
ATTACH;FMTTYPE=image/jpeg:https://kyhumane.mediauradev.com/wp-content/uplo
 ads/2025/09/Hi-Way-Muffler-Car-Show-2025-03.jpg
LOCATION:Hi-Way Muffler Sales Inc\, 4119 Cane Run Road\, Louisville\, KY\, 
 United States
X-APPLE-STRUCTURED-LOCATION;VALUE=URI;X-ADDRESS=4119 Cane Run Road\, Louisv
 ille\, KY\, United States;X-APPLE-RADIUS=100;X-TITLE=Hi-Way Muffler Sales 
 Inc:geo:0,0
END:VEVENT
BEGIN:VTIMEZONE
TZID:America/Kentucky/Louisville
X-LIC-LOCATION:America/Kentucky/Louisville
BEGIN:DAYLIGHT
DTSTART:20250309T030000
TZOFFSETFROM:-0500
TZOFFSETTO:-0400
TZNAME:EDT
END:DAYLIGHT
END:VTIMEZONE
END:VCALENDAR