BEGIN:VCALENDAR
VERSION:2.0
PRODID:-//wp-events-plugin.com//6.6.4.4//EN
TZID:America/Kentucky/Louisville
X-WR-TIMEZONE:America/Kentucky/Louisville
BEGIN:VEVENT
UID:469@kyhumane.mediauradev.com
DTSTART;TZID=America/Kentucky/Louisville:20241207T120000
DTEND;TZID=America/Kentucky/Louisville:20241207T160000
DTSTAMP:20241118T213746Z
URL:https://kyhumane.mediauradev.com/events/holiday-event-with-wallitsch-g
 ardens/
SUMMARY:Holiday Event with Wallitsch Gardens
DESCRIPTION:\n\nJoin us at Wallitsch Gardens on Saturday\, December 7\, fro
 m 12-4 for some Holiday fun! Enjoy this family fun event with Santa on sit
 e to take pictures with kids and pets! KHS staff will be on site with pupp
 ies for snuggles as well!
ATTACH;FMTTYPE=image/jpeg:https://kyhumane.mediauradev.com/wp-content/uplo
 ads/2024/11/Wallitsch-Gardens.jpg
END:VEVENT
BEGIN:VTIMEZONE
TZID:America/Kentucky/Louisville
X-LIC-LOCATION:America/Kentucky/Louisville
BEGIN:STANDARD
DTSTART:20241103T010000
TZOFFSETFROM:-0400
TZOFFSETTO:-0500
TZNAME:EST
END:STANDARD
END:VTIMEZONE
END:VCALENDAR