BEGIN:VCALENDAR
VERSION:2.0
PRODID:-//wp-events-plugin.com//6.6.4.4//EN
TZID:America/Kentucky/Louisville
X-WR-TIMEZONE:America/Kentucky/Louisville
BEGIN:VEVENT
UID:203@kyhumane.mediauradev.com
DTSTART;TZID=America/Kentucky/Louisville:20220412T110000
DTEND;TZID=America/Kentucky/Louisville:20220412T150000
DTSTAMP:20221103T174727Z
URL:https://kyhumane.mediauradev.com/events/holiday-paint-your-pet-at-ten2
 0-brewery-2/
SUMMARY:Holiday Paint Your Pet at Ten20 Brewery!
DESCRIPTION:\nHave you always wanted to paint the perfect picture of your b
 eloved fur baby while drinking delicious craft beer? Now is your opportuni
 ty! Additionally this could make the perfect early Christmas gift for fami
 ly\, friends\, or yourself!\n\n\n\n\n\n\n\nYou will be able to paint your 
 pet in 1 of 2 styles\n\n\n\nStyle 1: Traditional\n\n\n\nStyle 2: Pop art (
 think Andy Warhol)\n\n\n\nTickets are $45/person and are required to atten
 d this event. Please arrive on time and note that photos of your pet must 
 be submitted to the instructor prior to the event!\n\n\n\nAdditionally $25
  of your ticket will be donated to KHS\n\n\n\n\n\n\n\nPET PHOTOS:\n\n\n\nP
 lease submit a photo of your pet via email to our instructor\, Zach\, at z
 achlowe.gallery@gmail.com BEFORE Saturday\, December 3rd. Please include y
 our full name and 3-5 high-quality photographs of your pet. Please also in
 clude "KHS" in the subject line.\n\n\n\nOnly 1 pet can be sketched on your
  canvas. This will result in the best finished painting along with making 
 sure you finish on time.\n\n\n\n\n\n\n\nPAINTING DETAILS:\n\n\n\nOn the da
 y of the class\, you will receive a canvas with a sketch/outline of your p
 et (used from the photo you send to the instructor)\, a set of acrylic pai
 nts\, and all other brushes and materials to be utilized on-site. Only one
  pet can be included per ticket/canvas.\n\n\n\nTickets will go fast so get
  yours now!!\n\n\n\nBUY TICKETS NOW\n
ATTACH;FMTTYPE=image/jpeg:https://kyhumane.mediauradev.com/wp-content/uplo
 ads/2022/11/Pop-art-1.jpg
LOCATION:Ten20 Brewery\, 1020 East Washington St\, Louisville\, KY\, 40206\
 , United States
X-APPLE-STRUCTURED-LOCATION;VALUE=URI;X-ADDRESS=1020 East Washington St\, L
 ouisville\, KY\, 40206\, United States;X-APPLE-RADIUS=100;X-TITLE=Ten20 Br
 ewery:geo:0,0
END:VEVENT
BEGIN:VTIMEZONE
TZID:America/Kentucky/Louisville
X-LIC-LOCATION:America/Kentucky/Louisville
BEGIN:DAYLIGHT
DTSTART:20220313T030000
TZOFFSETFROM:-0500
TZOFFSETTO:-0400
TZNAME:EDT
END:DAYLIGHT
END:VTIMEZONE
END:VCALENDAR