BEGIN:VCALENDAR
VERSION:2.0
PRODID:-//wp-events-plugin.com//6.6.4.4//EN
TZID:America/Kentucky/Louisville
X-WR-TIMEZONE:America/Kentucky/Louisville
BEGIN:VEVENT
UID:204@kyhumane.mediauradev.com
DTSTART;TZID=America/Kentucky/Louisville:20221204T110000
DTEND;TZID=America/Kentucky/Louisville:20221204T150000
DTSTAMP:20221129T163800Z
URL:https://kyhumane.mediauradev.com/events/holiday-paint-your-pet-benefit
 ting-khs/
SUMMARY:Holiday Paint Your Pet Benefitting KHS!
DESCRIPTION:\nHave you always wanted to paint the perfect picture of your b
 eloved fur baby while drinking delicious craft beer? Now is your opportuni
 ty! Additionally this could make the perfect early Christmas gift for fami
 ly\, friends\, or yourself!\n\n\n\n\n\n\n\nYou will be able to paint your 
 pet in 1 of 2 styles:\n\n\n\nStyle 1: Traditional\n\n\n\nStyle 2: Pop art 
 (think Andy Warhol)\n\n\n\nTickets are $45/person and are required to atte
 nd this event. Please arrive on time and note that photos of your pet must
  be submitted to the instructor prior to the event!\n\n\n\n\n\n\n\nAdditio
 nally\, $25 of your ticket will be donated to KHS.\n\n\n\n\n\n\n\nPET PHOT
 OS:\n\n\n\nPlease submit a photo of your pet via email to our instructor\,
  Zach\, at zachlowe.gallery@gmail.com BEFORE Saturday\, December 3rd. Plea
 se include your full name and 3-5 high-quality photographs of your pet. Pl
 ease also include "KHS" in the subject line.\n\n\n\nOnly 1 pet can be sket
 ched on your canvas. This will result in the best finished painting along 
 with making sure you finish on time.\n\n\n\n\n\n\n\nPAINTING DETAILS:\n\n\
 n\nOn the day of the class\, you will receive a canvas with a sketch/outli
 ne of your pet (used from the photo you send to the instructor)\, a set of
  acrylic paints\, and all other brushes and materials to be utilized on-si
 te. Only one pet can be included per ticket/canvas.\n\n\n\n\n\n\n\nTickets
  will go fast\, so get yours now!!\n\n\n\n\nBuy Your Ticket\n\n
ATTACH;FMTTYPE=image/jpeg:https://kyhumane.mediauradev.com/wp-content/uplo
 ads/2022/11/Pop-art-1.jpg
LOCATION:Ten20 Brewery\, 1020 East Washington St\, Louisville\, KY\, 40206\
 , United States
X-APPLE-STRUCTURED-LOCATION;VALUE=URI;X-ADDRESS=1020 East Washington St\, L
 ouisville\, KY\, 40206\, United States;X-APPLE-RADIUS=100;X-TITLE=Ten20 Br
 ewery:geo:0,0
END:VEVENT
BEGIN:VTIMEZONE
TZID:America/Kentucky/Louisville
X-LIC-LOCATION:America/Kentucky/Louisville
BEGIN:STANDARD
DTSTART:20221106T010000
TZOFFSETFROM:-0400
TZOFFSETTO:-0500
TZNAME:EST
END:STANDARD
END:VTIMEZONE
END:VCALENDAR