BEGIN:VCALENDAR
VERSION:2.0
PRODID:-//wp-events-plugin.com//6.6.4.4//EN
TZID:America/Kentucky/Louisville
X-WR-TIMEZONE:America/Kentucky/Louisville
BEGIN:VEVENT
UID:339@kyhumane.mediauradev.com
DTSTART;TZID=America/Kentucky/Louisville:20231202T140000
DTEND;TZID=America/Kentucky/Louisville:20231202T170000
DTSTAMP:20231109T163006Z
URL:https://kyhumane.mediauradev.com/events/holiday-painting-party-willow-
 hope-farm/
SUMMARY:Holiday Painting Party @ Willow Hope Farm
DESCRIPTION:\nJoin us on Saturday\, December 2 as we kick off the holiday s
 eason with a holiday-themed painting party.\n\n\n\nNo artistic talent? No 
 problem. Our artist will guide you step-by-step through the painting and w
 ill ensure that you stay on track to completing your masterpiece by the en
 d of class. There are no mistakes\, but Acrylic paint dries quickly\, maki
 ng 'happy accidents' easy to fix and perfect.\n\n\n\nPainters have been kn
 own to wear their work\, but don’t worry. We will provide you a disposab
 le apron\, along with all other painting materials.\n\n\n\nWe’d love to 
 sprinkle in more fun by including a holiday goodies exchange! Please bring
  your favorite holiday treat to share. Hot cocoa\, apple cider and coffee 
 will be provided.\n\n\n\nSpecial artwork designed by KHS Equine C.A.R.E. V
 olunteer\, Heidi Harrington.\n\n\n\nCost: $50.00 per person (Only 25 Slots
  Available)\n\n\n\nDeadline to register is Saturday\, Nov. 25. Secure your
  seat today!\n\n\n\nProceeds benefit the KHS Equine C.A.R.E. Program. Ques
 tions? Email us at horses@kyhumane.org\n\n\n\n\nREGISTER NOW\n\n
ATTACH;FMTTYPE=image/jpeg:https://kyhumane.mediauradev.com/wp-content/uplo
 ads/2023/11/49179658966_aa449e1680_o-scaled-e1699547142822.jpg
LOCATION:KHS Willow Hope Farm\, 4416 Todds Point Road\, Simpsonville\, KY\,
  40067\, United States
X-APPLE-STRUCTURED-LOCATION;VALUE=URI;X-ADDRESS=4416 Todds Point Road\, Sim
 psonville\, KY\, 40067\, United States;X-APPLE-RADIUS=100;X-TITLE=KHS Will
 ow Hope Farm:geo:0,0
END:VEVENT
BEGIN:VTIMEZONE
TZID:America/Kentucky/Louisville
X-LIC-LOCATION:America/Kentucky/Louisville
BEGIN:STANDARD
DTSTART:20231105T010000
TZOFFSETFROM:-0400
TZOFFSETTO:-0500
TZNAME:EST
END:STANDARD
END:VTIMEZONE
END:VCALENDAR