BEGIN:VCALENDAR
VERSION:2.0
PRODID:-//wp-events-plugin.com//6.6.4.4//EN
TZID:America/Kentucky/Louisville
X-WR-TIMEZONE:America/Kentucky/Louisville
BEGIN:VEVENT
UID:118@kyhumane.mediauradev.com
DTSTART;TZID=America/Kentucky/Louisville:20220527T190000
DTEND;TZID=America/Kentucky/Louisville:20220527T190000
DTSTAMP:20220318T145255Z
URL:https://kyhumane.mediauradev.com/events/hops-hounds-at-slugger-field/
SUMMARY:Hops & Hounds at Slugger Field
DESCRIPTION:\n\n\n\n\nFriday\, May 277:05 p.m.Tickets start at $9We are par
 tnering with the Louisville Bats for Hops &amp\; Hounds at Slugger Field! 
 Bring your dog to the ballpark and sample some of Louisville's best craft 
 beers from local breweries. Tickets available on the Bats' website.\n
ATTACH;FMTTYPE=image/jpeg:https://kyhumane.mediauradev.com/wp-content/uplo
 ads/2022/03/louisvillebats-e1647615350662.jpg
LOCATION:Louisville Slugger Field\, 401 E Main St\, Louisville\, KY\, 40202
 \, United States
X-APPLE-STRUCTURED-LOCATION;VALUE=URI;X-ADDRESS=401 E Main St\, Louisville\
 , KY\, 40202\, United States;X-APPLE-RADIUS=100;X-TITLE=Louisville Slugger
  Field:geo:0,0
END:VEVENT
BEGIN:VTIMEZONE
TZID:America/Kentucky/Louisville
X-LIC-LOCATION:America/Kentucky/Louisville
BEGIN:DAYLIGHT
DTSTART:20220313T030000
TZOFFSETFROM:-0500
TZOFFSETTO:-0400
TZNAME:EDT
END:DAYLIGHT
END:VTIMEZONE
END:VCALENDAR