BEGIN:VCALENDAR
VERSION:2.0
PRODID:-//wp-events-plugin.com//6.6.4.4//EN
TZID:America/Kentucky/Louisville
X-WR-TIMEZONE:America/Kentucky/Louisville
BEGIN:VEVENT
UID:296@kyhumane.mediauradev.com
DTSTART;TZID=America/Kentucky/Louisville:20230805T170000
DTEND;TZID=America/Kentucky/Louisville:20230805T210000
DTSTAMP:20230801T192956Z
URL:https://kyhumane.mediauradev.com/events/hops-on-the-hill-3/
SUMMARY:Hops on the Hill
DESCRIPTION:\nAugust 5\, 2023 at Mile Wide Beer Co.\n\n\n\nLove local beer 
 and adorable puppies? Join us for Hops on the Hill Saturday\, August 5th f
 rom 5-9 p.m. at Mile Wide Beer Co.!\n\n\n\nHops on the Hill is celebrating
  its 6th birthday\, and our pals at Mile Wide Brewing Co. are shaking thin
 gs up a bit. Instead of one collaboration with three breweries\, they are 
 brewing three different collaborations with three different breweries! The
 se collabs will all be released at Hops on the Hill\, in addition to a num
 ber of specialty tappings. The breweries are:\n\n\n\nStreetside BreweryCin
 cinnati\, OH\n\n\n\n4 Hands BrewingSt Louis\, MO\n\n\n\nDSSOLVRAsheville\,
  NC\n\n\n\nDJ Clay Baker\, our resident HotH DJ\, will be spinning tunes u
 ntil 9:00pm.\n\n\n\nThe Kentucky Humane Society will be on site with adora
 ble puppies to cuddle and a portion of proceeds from this event will go to
  help KHS shelter pets!\n\n\n\nMac’s @ Mile Wide is gonna be slinging pi
 es\, as always. AND\, we’ll be welcoming Lil’ Cheezers food truck to t
 he festivities. They’ll be serving up grilled cheese goodness until 9:00
 pm.\n
ATTACH;FMTTYPE=image/jpeg:https://kyhumane.mediauradev.com/wp-content/uplo
 ads/2023/08/52953044263_22d22d05e3_o-scaled.jpg
LOCATION:Mile Wide Beer Co.\, 636 Barret Ave\, Louisville\, KY\, 40204\, Un
 ited States
X-APPLE-STRUCTURED-LOCATION;VALUE=URI;X-ADDRESS=636 Barret Ave\, Louisville
 \, KY\, 40204\, United States;X-APPLE-RADIUS=100;X-TITLE=Mile Wide Beer Co
 .:geo:0,0
END:VEVENT
BEGIN:VTIMEZONE
TZID:America/Kentucky/Louisville
X-LIC-LOCATION:America/Kentucky/Louisville
BEGIN:DAYLIGHT
DTSTART:20230312T030000
TZOFFSETFROM:-0500
TZOFFSETTO:-0400
TZNAME:EDT
END:DAYLIGHT
END:VTIMEZONE
END:VCALENDAR