BEGIN:VCALENDAR
VERSION:2.0
PRODID:-//wp-events-plugin.com//6.6.4.4//EN
TZID:America/Kentucky/Louisville
X-WR-TIMEZONE:America/Kentucky/Louisville
BEGIN:VEVENT
UID:455@kyhumane.mediauradev.com
DTSTART;TZID=America/Kentucky/Louisville:20241013T120000
DTEND;TZID=America/Kentucky/Louisville:20241013T160000
DTSTAMP:20240924T155144Z
URL:https://kyhumane.mediauradev.com/events/hounds-at-haucks-2/
SUMMARY:Hounds at Hauck's
DESCRIPTION:Delicious food and dog-friendly vendors sound paw-some to you? 
  Join us on October 13 from 12-5 p.m. as we take over the Hauck's Corner
  patio for HOUNDS AT HAUCK'S!\n\nThis fun-filled afternoon benefitting KH
 S will feature delicious food and drinks\, amazing dog-focused vendors\, a
 nd of course\, adorable\, adoptable puppies. We're paw-sitive you AND your
  pup will have a blast\, and we can't wait to see you there!
ATTACH;FMTTYPE=image/jpeg:https://kyhumane.mediauradev.com/wp-content/uplo
 ads/2024/09/Hounds-at-Haucks.jpg
LOCATION:Hauck's Corner\, 1000 Goss Avenue\, Louisville\, KY\, 40217\, Unit
 ed States
X-APPLE-STRUCTURED-LOCATION;VALUE=URI;X-ADDRESS=1000 Goss Avenue\, Louisvil
 le\, KY\, 40217\, United States;X-APPLE-RADIUS=100;X-TITLE=Hauck's Corner:
 geo:0,0
END:VEVENT
BEGIN:VTIMEZONE
TZID:America/Kentucky/Louisville
X-LIC-LOCATION:America/Kentucky/Louisville
BEGIN:DAYLIGHT
DTSTART:20240310T030000
TZOFFSETFROM:-0500
TZOFFSETTO:-0400
TZNAME:EDT
END:DAYLIGHT
END:VTIMEZONE
END:VCALENDAR