BEGIN:VCALENDAR
VERSION:2.0
PRODID:-//wp-events-plugin.com//6.6.4.4//EN
TZID:America/Kentucky/Louisville
X-WR-TIMEZONE:America/Kentucky/Louisville
BEGIN:VEVENT
UID:318@kyhumane.mediauradev.com
DTSTART;TZID=America/Kentucky/Louisville:20231008T120000
DTEND;TZID=America/Kentucky/Louisville:20231008T170000
DTSTAMP:20230918T203143Z
URL:https://kyhumane.mediauradev.com/events/hounds-at-haucks/
SUMMARY:Hounds at Hauck's
DESCRIPTION:\nSunday\, October 8 from 12:00 p.m. - 5:00 p.m.\n\n\n\nDelicio
 us food and dog-friendly vendors? Sounds like a paw-some time to us!\n\n\n
 \nJoin us on October 8 at Hauck's Corner for Hounds at Hauck's benefitting
  the Kentucky Humane Society! You'll get to enjoy delicious food and drink
 s while browsing amazing dog-focused vendors. Plus\, Hauck's boasts a 7000
  square-foot patio so you can bring your pup along for some paw-tastic fun
 \, too! KHS will be on-site with adorable puppies for you to snuggle\, and
  a portion of all proceeds will impact our sweet shelter pets. We can't wa
 it to see you at this free\, dog-friendly event!\n\n\n\n\n
ATTACH;FMTTYPE=image/jpeg:https://kyhumane.mediauradev.com/wp-content/uplo
 ads/2023/09/HoundsAtHaucks2.png
LOCATION:Hauck's Corner\, 1000 Goss Avenue\, Louisville\, KY\, 40217\, Unit
 ed States
X-APPLE-STRUCTURED-LOCATION;VALUE=URI;X-ADDRESS=1000 Goss Avenue\, Louisvil
 le\, KY\, 40217\, United States;X-APPLE-RADIUS=100;X-TITLE=Hauck's Corner:
 geo:0,0
END:VEVENT
BEGIN:VTIMEZONE
TZID:America/Kentucky/Louisville
X-LIC-LOCATION:America/Kentucky/Louisville
BEGIN:DAYLIGHT
DTSTART:20230312T030000
TZOFFSETFROM:-0500
TZOFFSETTO:-0400
TZNAME:EDT
END:DAYLIGHT
END:VTIMEZONE
END:VCALENDAR