BEGIN:VCALENDAR
VERSION:2.0
PRODID:-//wp-events-plugin.com//6.6.4.4//EN
TZID:America/Kentucky/Louisville
X-WR-TIMEZONE:America/Kentucky/Louisville
BEGIN:VEVENT
UID:326@kyhumane.mediauradev.com
DTSTART;TZID=America/Kentucky/Louisville:20231028T130000
DTEND;TZID=America/Kentucky/Louisville:20231028T160000
DTSTAMP:20231010T203314Z
URL:https://kyhumane.mediauradev.com/events/howl-o-ween-dog-costume-contes
 t/
SUMMARY:Howl-O-Ween Dog Costume Contest
DESCRIPTION:\nSaturday\, October 28 from 1-4 p.m.\n\n\n\nGet ready for a ho
 wling good time at Howl-O-Ween at Hi-Wire\, the most pawsome canine costum
 e extravaganza of the year!\n\n\n\nJoin us on October 28 for a furtastic c
 elebration of Halloween with delicious brews\, tail waggin' fun and of cou
 rse\, some KHS puppies! Bring your four-legged best friend along so they c
 an strut their stuff in the costume contest. Who knows? Maybe they'll be T
 OP DOG! All pups are welcome to paw-ticipate\, and winners will be chosen 
 for three categories: Funniest Costume\, Scariest Character Costume\, and 
 Best Human/Dog Duo. It's sure to be a mysterious and spooky afternoon!\n\n
 \n\n\n
ATTACH;FMTTYPE=image/jpeg:https://kyhumane.mediauradev.com/wp-content/uplo
 ads/2023/10/Screenshot-2023-10-10-163131.png
LOCATION:Hi-Wire Brewing\, 642 Baxter Avenue\, Louisville\, KY\, 40204\, Un
 ited States
X-APPLE-STRUCTURED-LOCATION;VALUE=URI;X-ADDRESS=642 Baxter Avenue\, Louisvi
 lle\, KY\, 40204\, United States;X-APPLE-RADIUS=100;X-TITLE=Hi-Wire Brewin
 g:geo:0,0
END:VEVENT
BEGIN:VTIMEZONE
TZID:America/Kentucky/Louisville
X-LIC-LOCATION:America/Kentucky/Louisville
BEGIN:DAYLIGHT
DTSTART:20230312T030000
TZOFFSETFROM:-0500
TZOFFSETTO:-0400
TZNAME:EDT
END:DAYLIGHT
END:VTIMEZONE
END:VCALENDAR