BEGIN:VCALENDAR
VERSION:2.0
PRODID:-//wp-events-plugin.com//6.6.4.4//EN
TZID:America/Kentucky/Louisville
X-WR-TIMEZONE:America/Kentucky/Louisville
BEGIN:VEVENT
UID:609@kyhumane.mediauradev.com
DTSTART;TZID=America/Kentucky/Louisville:20251219T110000
DTEND;TZID=America/Kentucky/Louisville:20251219T200000
DTSTAMP:20251208T151528Z
URL:https://kyhumane.mediauradev.com/events/kendra-scott-giveback/
SUMMARY:Kendra Scott Giveback
DESCRIPTION:Shop in person for holiday gifts on Friday\, December 19th with
  Kendra Scott and give back to KHS! Mention us at checkout to have 20% of 
 your sale donated back to support shelter animals!
ATTACH;FMTTYPE=image/jpeg:https://kyhumane.mediauradev.com/wp-content/uplo
 ads/2025/11/54214035228_553801868a_o.jpg
LOCATION:Kendra Scott - Oxmoor Store\, 7900 Shelbyville Road\, Louisville\,
  KY\, 40222\, United States
X-APPLE-STRUCTURED-LOCATION;VALUE=URI;X-ADDRESS=7900 Shelbyville Road\, Lou
 isville\, KY\, 40222\, United States;X-APPLE-RADIUS=100;X-TITLE=Kendra Sco
 tt - Oxmoor Store:geo:0,0
END:VEVENT
BEGIN:VTIMEZONE
TZID:America/Kentucky/Louisville
X-LIC-LOCATION:America/Kentucky/Louisville
BEGIN:STANDARD
DTSTART:20251102T010000
TZOFFSETFROM:-0400
TZOFFSETTO:-0500
TZNAME:EST
END:STANDARD
END:VTIMEZONE
END:VCALENDAR