BEGIN:VCALENDAR
VERSION:2.0
PRODID:-//wp-events-plugin.com//6.6.4.4//EN
TZID:America/Kentucky/Louisville
X-WR-TIMEZONE:America/Kentucky/Louisville
BEGIN:VEVENT
UID:285@kyhumane.mediauradev.com
DTSTART;TZID=America/Kentucky/Louisville:20230706T170000
DTEND;TZID=America/Kentucky/Louisville:20230706T190000
DTSTAMP:20230705T131406Z
URL:https://kyhumane.mediauradev.com/events/khs-happy-hour/
SUMMARY:KHS Happy Hour
DESCRIPTION:\nBeginning July 6\, Main Campus Adoptions will be open until 7
  p.m. every Thursday!\n\n\n\nJoin us on Thursday evenings for Happy Hour a
 t our Main Campus\, 241 Steedly Drive! Starting July 6\, our Main Campus w
 ill be open until 7 p.m. every Thursday\, with adoptions processed from 11
 am-6:30pm. Stop by to meet all of our amazing adoptable cats and dogs\, an
 d leave with your new four-legged best friend!\n\n\n\n\n
ATTACH;FMTTYPE=image/jpeg:https://kyhumane.mediauradev.com/wp-content/uplo
 ads/2023/07/HappyHour_7.6_square2-scaled.jpg
LOCATION:Sam Swope Pet TLC (Main Campus)\, 241 Steedly Dr\, Louisville\, KY
 \, 40214\, United States
X-APPLE-STRUCTURED-LOCATION;VALUE=URI;X-ADDRESS=241 Steedly Dr\, Louisville
 \, KY\, 40214\, United States;X-APPLE-RADIUS=100;X-TITLE=Sam Swope Pet TLC
  (Main Campus):geo:0,0
END:VEVENT
BEGIN:VTIMEZONE
TZID:America/Kentucky/Louisville
X-LIC-LOCATION:America/Kentucky/Louisville
BEGIN:DAYLIGHT
DTSTART:20230312T030000
TZOFFSETFROM:-0500
TZOFFSETTO:-0400
TZNAME:EDT
END:DAYLIGHT
END:VTIMEZONE
END:VCALENDAR