BEGIN:VCALENDAR
VERSION:2.0
PRODID:-//wp-events-plugin.com//6.6.4.4//EN
TZID:America/Kentucky/Louisville
X-WR-TIMEZONE:America/Kentucky/Louisville
BEGIN:VEVENT
UID:295@kyhumane.mediauradev.com
DTSTART;TZID=America/Kentucky/Louisville:20230722T110000
DTEND;TZID=America/Kentucky/Louisville:20230722T135000
DTSTAMP:20230720T120020Z
URL:https://kyhumane.mediauradev.com/events/khs-playgroup-rockstars-showca
 se/
SUMMARY:KHS Playgroup Rockstars Showcase
DESCRIPTION:\nSaturday\, July 22 | 11 a.m. - 1:50 p.m.\n\n\n\nHave you sear
 ching for four paws to add to your pack? We have so many AMAZING dog-socia
 l pups who would love to show off their skills. Join us on Saturday\, July
  22 at the Main Campus\, 241 Steedly Drive\, for our first PLAYGROUP ROCKS
 TAR SHOWCASE! Stop by the Playful Stage to meet our rompy\, rowdy rockstar
 s\, or visit the Gentle &amp\; Dainty Stage to meet some laid-back canines
 . With different stages for different rockstars\, you're sure to find a pe
 rfect pup for your pack! Plus\, adoption fees are waived for all adult dog
 s\, so you could leave the showcase with a rockstar in tow! The Showcase k
 icks off at 11 a.m. and will feature four 20-minute sessions through 12:50
  p.m. We can't wait to see you THIS SATURDAY at our Main Campus!\n\n\n\n\n
ATTACH;FMTTYPE=image/jpeg:https://kyhumane.mediauradev.com/wp-content/uplo
 ads/2023/07/PlaygroupRockstars_July.png
LOCATION:Sam Swope Pet TLC (Main Campus)\, 241 Steedly Dr\, Louisville\, KY
 \, 40214\, United States
X-APPLE-STRUCTURED-LOCATION;VALUE=URI;X-ADDRESS=241 Steedly Dr\, Louisville
 \, KY\, 40214\, United States;X-APPLE-RADIUS=100;X-TITLE=Sam Swope Pet TLC
  (Main Campus):geo:0,0
END:VEVENT
BEGIN:VTIMEZONE
TZID:America/Kentucky/Louisville
X-LIC-LOCATION:America/Kentucky/Louisville
BEGIN:DAYLIGHT
DTSTART:20230312T030000
TZOFFSETFROM:-0500
TZOFFSETTO:-0400
TZNAME:EDT
END:DAYLIGHT
END:VTIMEZONE
END:VCALENDAR