BEGIN:VCALENDAR
VERSION:2.0
PRODID:-//wp-events-plugin.com//6.6.4.4//EN
TZID:America/Kentucky/Louisville
X-WR-TIMEZONE:America/Kentucky/Louisville
BEGIN:VEVENT
UID:458@kyhumane.mediauradev.com
DTSTART;TZID=America/Kentucky/Louisville:20241001T170000
DTEND;TZID=America/Kentucky/Louisville:20241001T220000
DTSTAMP:20240927T180155Z
URL:https://kyhumane.mediauradev.com/events/le-moo-giveback/
SUMMARY:Le Moo Giveback
DESCRIPTION:\n\n\n\nGIVEBACK ALERT! Enjoy a delicious meal while supporting
  shelter pets by joining us at Le Moo on Tuesday\, October 1! When you din
 e at Le Moo from 5-10 p.m. and mention that you're supporting the Kentucky
  Humane Society\, they will donate 10% of your check to our shelter animal
 s!\n\n\n\nLearn more and make reservations at https://lemoorestaurant.com/
 \n
ATTACH;FMTTYPE=image/jpeg:https://kyhumane.mediauradev.com/wp-content/uplo
 ads/2024/09/Le-Moo.jpg
LOCATION:Le Moo\, 2300 Lexington Road\, Louisville\, Kentucky\, 40206\, Uni
 ted States
X-APPLE-STRUCTURED-LOCATION;VALUE=URI;X-ADDRESS=2300 Lexington Road\, Louis
 ville\, Kentucky\, 40206\, United States;X-APPLE-RADIUS=100;X-TITLE=Le Moo
 :geo:0,0
END:VEVENT
BEGIN:VTIMEZONE
TZID:America/Kentucky/Louisville
X-LIC-LOCATION:America/Kentucky/Louisville
BEGIN:DAYLIGHT
DTSTART:20240310T030000
TZOFFSETFROM:-0500
TZOFFSETTO:-0400
TZNAME:EDT
END:DAYLIGHT
END:VTIMEZONE
END:VCALENDAR