BEGIN:VCALENDAR
VERSION:2.0
PRODID:-//wp-events-plugin.com//6.6.4.4//EN
TZID:America/Kentucky/Louisville
X-WR-TIMEZONE:America/Kentucky/Louisville
BEGIN:VEVENT
UID:504@kyhumane.mediauradev.com
DTSTART;TZID=America/Kentucky/Louisville:20250429T170000
DTEND;TZID=America/Kentucky/Louisville:20250429T200000
DTSTAMP:20250310T200619Z
URL:https://kyhumane.mediauradev.com/events/lmas-happy-hour/
SUMMARY:LMAS Happy Hour
DESCRIPTION:\n\nHappy Tail Hour is a dog friendly event hosted by LMAS as p
 art of the Kentucky Derby Fest-A-Ville. Come by and cuddle some adorable p
 uppies at the KHS booth at the “Happy Tail Hour” on Tuesday\, April 29
 th\, from 5-8pm on the Waterfront Park Great Lawn. You won’t want to mis
 s this pet-friendly\, family friendly afternoon inside Kroger’s Fest-a-V
 ille! The event will provide a fun opportunity for the pet-loving communit
 y to come together while enjoying music\, food\, vendors\, games &amp\; mo
 re! Admission is free with a 2025 Pegasus Pin! All pets must be on leashes
 .
ATTACH;FMTTYPE=image/jpeg:https://kyhumane.mediauradev.com/wp-content/uplo
 ads/2025/03/Ky-Derby-Festival-and-Metro-Animal-Services-presents-1.png
END:VEVENT
BEGIN:VTIMEZONE
TZID:America/Kentucky/Louisville
X-LIC-LOCATION:America/Kentucky/Louisville
BEGIN:DAYLIGHT
DTSTART:20250309T030000
TZOFFSETFROM:-0500
TZOFFSETTO:-0400
TZNAME:EDT
END:DAYLIGHT
END:VTIMEZONE
END:VCALENDAR